BEGIN:VCALENDAR
VERSION:2.0
PRODID:-//Triarte - Centro de estudios art&iacute;sticos - Conservatorio y escuela de m&uacute;sica, danza y teatro. - ECPv6.15.18//NONSGML v1.0//EN
CALSCALE:GREGORIAN
METHOD:PUBLISH
X-ORIGINAL-URL:https://www.triarte.net
X-WR-CALDESC:Eventos para Triarte - Centro de estudios art&iacute;sticos - Conservatorio y escuela de m&uacute;sica, danza y teatro.
REFRESH-INTERVAL;VALUE=DURATION:PT1H
X-Robots-Tag:noindex
X-PUBLISHED-TTL:PT1H
BEGIN:VTIMEZONE
TZID:Europe/Madrid
BEGIN:DAYLIGHT
TZOFFSETFROM:+0100
TZOFFSETTO:+0200
TZNAME:CEST
DTSTART:20160327T010000
END:DAYLIGHT
BEGIN:STANDARD
TZOFFSETFROM:+0200
TZOFFSETTO:+0100
TZNAME:CET
DTSTART:20161030T010000
END:STANDARD
BEGIN:DAYLIGHT
TZOFFSETFROM:+0100
TZOFFSETTO:+0200
TZNAME:CEST
DTSTART:20170326T010000
END:DAYLIGHT
BEGIN:STANDARD
TZOFFSETFROM:+0200
TZOFFSETTO:+0100
TZNAME:CET
DTSTART:20171029T010000
END:STANDARD
BEGIN:DAYLIGHT
TZOFFSETFROM:+0100
TZOFFSETTO:+0200
TZNAME:CEST
DTSTART:20180325T010000
END:DAYLIGHT
BEGIN:STANDARD
TZOFFSETFROM:+0200
TZOFFSETTO:+0100
TZNAME:CET
DTSTART:20181028T010000
END:STANDARD
END:VTIMEZONE
BEGIN:VEVENT
DTSTART;TZID=Europe/Madrid:20170625T180000
DTEND;TZID=Europe/Madrid:20170625T193000
DTSTAMP:20260423T015538
CREATED:20170525T173819Z
LAST-MODIFIED:20180607T183559Z
UID:3130-1498413600-1498419000@www.triarte.net
SUMMARY:18:00 h. Festival de Danza: Final de Curso 2016 – 2017.
DESCRIPTION:TRIARTE tiene el honor de presentar el Festival de Danza celebrado con motivo del Final de Curso 2016-2017. Veremos a niños y niñas de todas las edades exponer una muestra del trabajo realizado durante el presente curso. Desde aquí queremos agradecer a nuestro profesores el gran trabajo realizado. \nLas entradas se pondrán a la venta a partir del 12 de junio a las 10:00h en la Secretaría de Triarte. \n \nPROGRAMA \nPrimera Parte \nAllegro (“Pequeña Serenata Nocturna”\, W. A. Mozart)\nAlumnas de Nivel VI\nLa Leyenda del Beso (Soutullo y Vert)\nAlumnas de Nivel III\nEn la fiesta del jardín (B.S.O. “Alicia en el País de las Maravillas”)\nAlumnas de Iniciación\nAlegrías (“El Mar de tu sentir”\, Vicente Amigo)\nAlumnas de Nivel I y II\nDanza del Fuego (“Danza ritual del fuego”\, Manuel de Falla)\nAlumnas de Nivel V\nUn paseo por la copla: (”Ojos Verdes”\, León\, Quiroga y Valverde\n“No me llames Dolores llámame Lola”\, León y Quiroga\n“A la lima y al limón”\, León y Quiroga)\nAlumnas de Nivel IV y VI \nSegunda Parte \nVals de las horas (Ballet “Coppelia”\, Leo Delibes)\nAlumnas de Nivel IV\nCan-Can (Offenbach)\nAlumnas de Nivel I y II\nRumba Gitana (Gipsy Kings)\nAlumnas de Iniciación\nMoon River (B.S.O. “Desayuno con Diamantes”)\nAlumnas de Nivel III\nTierra (“Roma”\, Vicente Amigo)\nAlumnas de Nivel V y VI \n 
URL:https://www.triarte.net/evento/1800-h-festival-de-danza-final-de-curso-2016-2017/
LOCATION:Teatro Escuela Superior de Arte Dramático\, Calle Béla Bartók\, 2\, Málaga\, Málaga\, 29010\, España
CATEGORIES:Danza
ATTACH;FMTTYPE=image/png:https://www.triarte.net/wp-content/uploads/2017/05/Festival-de-Danza-18_00.png
END:VEVENT
BEGIN:VEVENT
DTSTART;TZID=Europe/Madrid:20170625T200000
DTEND;TZID=Europe/Madrid:20170625T203000
DTSTAMP:20260423T015538
CREATED:20170525T175443Z
LAST-MODIFIED:20180607T183549Z
UID:3134-1498420800-1498422600@www.triarte.net
SUMMARY:20:00 h. Festival de Danza: Final de Curso 2016 – 2017.
DESCRIPTION:TRIARTE tiene el honor de presentar el Festival de Danza celebrado con motivo del Final de Curso 2016-2017. Veremos a niños y niñas de todas las edades exponer una muestra del trabajo realizado durante el presente curso. Desde aquí queremos agradecer a nuestro profesores el gran trabajo realizado. \nLas entradas se pondrán a la venta a partir del 12 de junio a las 10:00h en la Secretaría de Triarte. \n \nPROGRAMA \nPrimera Parte \nAllegro (“Pequeña Serenata Nocturna”\, W. A. Mozart)\nAlumnas de Nivel VI\nTangos de Triana (Miguel Poveda)\nAlumnas de Infantil\nMoon River (B.S.O. “Desayuno con Diamantes”)\nAlumnas de Nivel III\nPasodoble (“Gallito”\, Santiago Lope)\nAlumnas de Preparatorio\nCan-Can (Offenbach)\nAlumnas de Nivel I y II\nUn paseo por la copla: (”Ojos Verdes”\, León\, Quiroga y Valverde\n“No me llames Dolores llámame Lola”\, León y Quiroga\n“A la lima y al limón”\, León y Quiroga)\nAlumnas de Nivel IV y VI\nDanza del Fuego (“Danza ritual del fuego”\, Manuel de Falla)\nAlumnas de Nivel V \nSegunda Parte \nEl Lago de los Cisnes (“El Lago de los Cisnes”\, Tchaikovsky)\nAlumnas de Preparatorio\nAlegrías (“El Mar de tu sentir”\, Vicente Amigo)\nAlumnas de Nivel I y II\nFrozen (B.S.O. Frozen)\nAlumnas de Infantil\nLa Leyenda del Beso (Soutullo y Vert)\nAlumnas de Nivel III\nVals de las horas (Ballet “Coppelia”\, Leo Delibes)\nAlumnas de Nivel IV\nTierra (“Roma”\, Vicente Amigo)\nAlumnas de Nivel V y VI
URL:https://www.triarte.net/evento/2000-h-festival-de-danza-final-de-curso-2016-2017/
LOCATION:Teatro Escuela Superior de Arte Dramático\, Calle Béla Bartók\, 2\, Málaga\, Málaga\, 29010\, España
CATEGORIES:Danza
ATTACH;FMTTYPE=image/png:https://www.triarte.net/wp-content/uploads/2017/05/Festival-de-Danza-20_00.png
END:VEVENT
END:VCALENDAR