BEGIN:VCALENDAR
VERSION:2.0
PRODID:-//Triarte - Centro de estudios art&iacute;sticos - Conservatorio y escuela de m&uacute;sica, danza y teatro. - ECPv6.15.18//NONSGML v1.0//EN
CALSCALE:GREGORIAN
METHOD:PUBLISH
X-WR-CALNAME:Triarte - Centro de estudios art&iacute;sticos - Conservatorio y escuela de m&uacute;sica, danza y teatro.
X-ORIGINAL-URL:https://www.triarte.net
X-WR-CALDESC:Eventos para Triarte - Centro de estudios art&iacute;sticos - Conservatorio y escuela de m&uacute;sica, danza y teatro.
REFRESH-INTERVAL;VALUE=DURATION:PT1H
X-Robots-Tag:noindex
X-PUBLISHED-TTL:PT1H
BEGIN:VTIMEZONE
TZID:Europe/Madrid
BEGIN:DAYLIGHT
TZOFFSETFROM:+0100
TZOFFSETTO:+0200
TZNAME:CEST
DTSTART:20160327T010000
END:DAYLIGHT
BEGIN:STANDARD
TZOFFSETFROM:+0200
TZOFFSETTO:+0100
TZNAME:CET
DTSTART:20161030T010000
END:STANDARD
BEGIN:DAYLIGHT
TZOFFSETFROM:+0100
TZOFFSETTO:+0200
TZNAME:CEST
DTSTART:20170326T010000
END:DAYLIGHT
BEGIN:STANDARD
TZOFFSETFROM:+0200
TZOFFSETTO:+0100
TZNAME:CET
DTSTART:20171029T010000
END:STANDARD
BEGIN:DAYLIGHT
TZOFFSETFROM:+0100
TZOFFSETTO:+0200
TZNAME:CEST
DTSTART:20180325T010000
END:DAYLIGHT
BEGIN:STANDARD
TZOFFSETFROM:+0200
TZOFFSETTO:+0100
TZNAME:CET
DTSTART:20181028T010000
END:STANDARD
END:VTIMEZONE
BEGIN:VEVENT
DTSTART;TZID=Europe/Madrid:20170623T183000
DTEND;TZID=Europe/Madrid:20170623T190000
DTSTAMP:20260423T015450
CREATED:20170530T100049Z
LAST-MODIFIED:20170621T170225Z
UID:3178-1498242600-1498244400@www.triarte.net
SUMMARY:18.30 h. Concierto de la Orquesta Juvenil de Triarte: "Música de Cine"
DESCRIPTION:El 23 de Junio a las 18:30 h. nuestros alumnos de la Orquesta Juvenil de Triarte que dirige nuestra profesora Fátima Fernández nos ofrecerán un concierto titulado: «Música de Cine». \nLa entrada será libre hasta completar aforo. \nComponentes \nFlautas \nIrene Cordero Rosado\nMontserrat Martínez Martínez \nLucía Maldonado Montiel\nLucía Lara Mendoza\nViolines\nJavier Hernández Aguilera \nMaría José Martín Sánchez \nAlba Martínez Martínez\nViolonchelos\nCarlos Arrabal Romero\nRosana Vera Bazaga\nCarmen Bonachera Martín\nClarinete\nÁlvaro Cuevas García\nSaxofón\nAntonio Francisco Luque Cara \nPROGRAMA \nSupercalifragilisticoespialidoso\nMary Poppins\, M. Sherman\nLa vida es bella\nNicola Piovani\nStar Wars\nJohn Williams\nPiratas del Caribe\nHans Zimmer
URL:https://www.triarte.net/evento/18-30-h-concierto-de-la-orquesta-juvenil-de-triarte-musica-de-cine/
LOCATION:Sala de Conciertos de Triarte\, Calle Corregidor Antonio de Bobadilla\, 16\, Málaga\, 29006\, España
CATEGORIES:Concierto
ATTACH;FMTTYPE=image/png:https://www.triarte.net/wp-content/uploads/2017/05/23-06-2017-CONCIERTO-DE-ORQUESTA-JUVENIL.png
END:VEVENT
BEGIN:VEVENT
DTSTART;TZID=Europe/Madrid:20170623T203000
DTEND;TZID=Europe/Madrid:20170623T220000
DTSTAMP:20260423T015450
CREATED:20170530T104107Z
LAST-MODIFIED:20170615T160342Z
UID:3181-1498249800-1498255200@www.triarte.net
SUMMARY:20:30 h. Concierto de Guitarra Clásica.
DESCRIPTION:El viernes 23 de junio a las 20:30 h los alumnos de nuestro profesor Pedro Reina nos ofrecerán concierto de guitarra. \nEl concierto tendrá lugar en nuestra sala de conciertos y la entrada será libre hasta completar aforo. \nPROGRAMA \nOcteto de guitarras\nMarcha Imperial\, J. Williams\nPiratas del Caribe\, K. Badelt \nCuarteto de guitarras \nCançao\, Brasil\nHoje face um ano\, Brasil\nEl cachimbo\, Chile \nJosé Antonio Segovia Vega\nEstudio simple VI\, L. Brouwer\nEstudio Op. 60 nº 3\, M. Carcassi \nDavid Cortés Urbano\nEstudio Simple V\, L. Brouwer\nRomanesca\, anónimo \nMª Isabel Santos Rivas\nMariposa nº 1\, M. Giuliani\nVals\, M. Carcassi \nMª Victoria Castillo Montesino\nRomance Anónimo\, anónimo\nDivagando\, D. Semenzato \nCarlos Rodríguez Mena\nEstudio nº 2\, F. Carulli\nStep 42\, J. Hochweber \nDiego Gil Martín\nAndantino Op. 21 nº 1\, M. Carcassi\nValse Op. 21 nº 6 \, M. Carcassi \nOlga Vorobei\nEstudios Simples I\, II\, III\, V y VI\, L. Brouwer \nJulián Julio Mainer Lasheras\nPreludio «Lágrima»\, F. Tárrega\nNatalia\, G. Moustaki \nMaría López Ruiz\nEstudio Simple VIII\, L. Brouwer\nUn día de noviembre\, L. Brouwer \nJulian Gómez Da Silva\nPreludio para laud en Re m BWV 999\, J. S. Bach \nAna Mei Morales Rodríguez\nOrange\, N. Leclerq\nGavota II\, J. S. Bach \nGaoxiang He\nEstudio en Mi menor\, F. Tárrega\nMazurca (dúo)\, F. Tárrega \nAndrea Sánchez Castillo\nEstudio Op 241 nº 21\, F. carulli\nOda a la alegría\, L. van Beethoven \nMarta Alcoholado Muriel\nA toye\, anónimo\nEstudio Op. 241 nº 6 \, F. Carulli \nMiguel García García\nEstudio Op. 60 nº 8 \, F. Sor\nVals\, J. V. Díaz
URL:https://www.triarte.net/evento/2030-h-concierto-de-guitarra-clasica/
LOCATION:Sala de Conciertos de Triarte\, Calle Corregidor Antonio de Bobadilla\, 16\, Málaga\, 29006\, España
CATEGORIES:Concierto
ATTACH;FMTTYPE=image/png:https://www.triarte.net/wp-content/uploads/2017/05/23-06-2017-CONCIERTO-DE-GUITARRA.png
END:VEVENT
END:VCALENDAR