BEGIN:VCALENDAR
VERSION:2.0
PRODID:-//Triarte - Centro de estudios art&iacute;sticos - Conservatorio y escuela de m&uacute;sica, danza y teatro. - ECPv6.15.18//NONSGML v1.0//EN
CALSCALE:GREGORIAN
METHOD:PUBLISH
X-ORIGINAL-URL:https://www.triarte.net
X-WR-CALDESC:Eventos para Triarte - Centro de estudios art&iacute;sticos - Conservatorio y escuela de m&uacute;sica, danza y teatro.
REFRESH-INTERVAL;VALUE=DURATION:PT1H
X-Robots-Tag:noindex
X-PUBLISHED-TTL:PT1H
BEGIN:VTIMEZONE
TZID:Europe/Madrid
BEGIN:DAYLIGHT
TZOFFSETFROM:+0100
TZOFFSETTO:+0200
TZNAME:CEST
DTSTART:20160327T010000
END:DAYLIGHT
BEGIN:STANDARD
TZOFFSETFROM:+0200
TZOFFSETTO:+0100
TZNAME:CET
DTSTART:20161030T010000
END:STANDARD
BEGIN:DAYLIGHT
TZOFFSETFROM:+0100
TZOFFSETTO:+0200
TZNAME:CEST
DTSTART:20170326T010000
END:DAYLIGHT
BEGIN:STANDARD
TZOFFSETFROM:+0200
TZOFFSETTO:+0100
TZNAME:CET
DTSTART:20171029T010000
END:STANDARD
BEGIN:DAYLIGHT
TZOFFSETFROM:+0100
TZOFFSETTO:+0200
TZNAME:CEST
DTSTART:20180325T010000
END:DAYLIGHT
BEGIN:STANDARD
TZOFFSETFROM:+0200
TZOFFSETTO:+0100
TZNAME:CET
DTSTART:20181028T010000
END:STANDARD
END:VTIMEZONE
BEGIN:VEVENT
DTSTART;TZID=Europe/Madrid:20170621T180000
DTEND;TZID=Europe/Madrid:20170621T210000
DTSTAMP:20260423T033838
CREATED:20170530T084429Z
LAST-MODIFIED:20170614T181336Z
UID:3171-1498068000-1498078800@www.triarte.net
SUMMARY:18:00 h. Concierto de Canto.
DESCRIPTION:El miércoles 21 de junio a las 18:00 h los alumnos de canto de Susana Cortés y Jennifer Rodríguez nos ofrecerán un concierto. \nLa entrada será libre hasta completar el aforo de nuestra sala de conciertos. \nPROGRAMA \nLaura González Rodríguez\nVeo en ti la luz\, Rapunzel\nAcompañamiento al piano: Susana Cortés \nIrene González Rodríguez\nIf only\, Los descendientes \nColette Puebla Leandres\nJe vole\, La familia Belier\nLucía Lara Mendoza\nHow far i’ll go\, Moana \nAna Valeria Ocaña Rojas\nSafe and sound\, Los juegos del hambre\nAcompañamiento al piano: Ana Valeria Ocaña \nEsther Jiménez Rodríguez\nWings\, BSO Velvet\nAcompañamiento al piano: Susana Cortés \nLucía Mora Carnero\nOnly hope\, A walk to remember \nSara Montes Sola\nVivre\, Notre Dame de Paris \nPablo Sánchez Vallejo\nCan’t stop the feeling\, Trolls \nSara Orellana Draoui\nYellow Flicker Beat\, Los juegos del hambre \nMarta de La Lastra Simón\nSiempre brillarás\, Tini \nAlejandro José de Las Heras Pozo\nUn año de amor\, Tacones lejanos\nAcompañamiento al piano: Susana Cortés \nDavid Hernández Saavedra\nDime que me quieres\, Al otro lado de la cama\nAcompañamiento al piano: Susana Cortés. \nVirginia del Pino Martín\nCrazy\, Birdman\nAcompañamiento al piano: Susana Cortés. \nBelén Espíldora Aguilera\nI dreamed a dream\, Los miserables
URL:https://www.triarte.net/evento/2000-h-concierto-de-canto/
LOCATION:Sala de Conciertos de Triarte\, Calle Corregidor Antonio de Bobadilla\, 16\, Málaga\, 29006\, España
CATEGORIES:Concierto
ATTACH;FMTTYPE=image/png:https://www.triarte.net/wp-content/uploads/2017/05/21-06-2017-CONCIERTO-DE-CANTO-1.png
END:VEVENT
BEGIN:VEVENT
DTSTART;TZID=Europe/Madrid:20170621T200000
DTEND;TZID=Europe/Madrid:20170621T213000
DTSTAMP:20260423T033838
CREATED:20170530T091617Z
LAST-MODIFIED:20180607T173657Z
UID:3176-1498075200-1498080600@www.triarte.net
SUMMARY:20:00 h. Concierto Final de Curso 2016/2017. Auditorio Edgar Neville.
DESCRIPTION:El miércoles 21 de junio de 2017 a las 20:00h\, Triarte – Centro de Estudios Artísticos celebrará el concierto con motivo de la clausura del Curso Académico 2016 – 2017. \nEl el mismo actuarán el Coro Juvenil y la Orquesta de Cámara ambos dirigidos por Rosario Hidalgo así como la Orquesta Sinfónica dirigida por Evelyn Martínez. \nPROGRAMA \nCoro Juvenil\, Directora\, Rosario Hidalgo\nKuku ué. A 2 v. i. E. Ugalde\nSakura. A 2 v. i. E. Ugalde\nDuerme pequeño mar. A 2 v. i. J. Elberdin\nEl sol tiene frío. A 2 v. i. I. Rebolo y J. P. Otero\nPiano: Mª Isabel Sánchez de Alcázar\, Daniel José Hidalgo Anaya \nOrquesta de Cámara\, Directora\, Rosario Hidalgo\nChacona en Sol m. Z. 730. H. Purcell\nDivertimento en Re M. K. 136. W. A. Mozart\nAllegro\nSt. Paul´s Suite. G. Holst\nJig \nOstinato\nIntermezzo\nFinale (The Dargason)  \nCoro Juvenil y Orquesta de Cámara\, Directora\, Rosario Hidalgo\nPor eso cantamos juntos. Para coro y orquesta\nJ. Elberdin\, A. Moriano. Arreglo orquestal Eloísa Domínguez \nOrquesta Sinfónica\, Directora\, Evelyn Martínez\nDivertimento K. 522\, W. A. Mozart\nSinfonía Op. 92 nº 7 en La M\, L. van Beethoven\nII. Allegretto\nMarcha Op. 39 nº 1 Pompa y Circunstancia\, E. Elgar\nAllegro con molto fuoco \n*Aforo limitado. Para asistir a este concierto es necesario la adquisición de la entrada.
URL:https://www.triarte.net/evento/2000-h-concierto-final-de-curso-20162017-auditorio-edgar-neville/
LOCATION:Auditorio Edgar Neville – Diputación Provincial Málaga\, Calle Pacífico\, 54 \, Málaga\, 29004 \, España
CATEGORIES:Concierto
ATTACH;FMTTYPE=image/png:https://www.triarte.net/wp-content/uploads/2017/05/coro.png
END:VEVENT
END:VCALENDAR