BEGIN:VCALENDAR
VERSION:2.0
PRODID:-//Triarte - Centro de estudios art&iacute;sticos - Conservatorio y escuela de m&uacute;sica, danza y teatro. - ECPv6.15.18//NONSGML v1.0//EN
CALSCALE:GREGORIAN
METHOD:PUBLISH
X-ORIGINAL-URL:https://www.triarte.net
X-WR-CALDESC:Eventos para Triarte - Centro de estudios art&iacute;sticos - Conservatorio y escuela de m&uacute;sica, danza y teatro.
REFRESH-INTERVAL;VALUE=DURATION:PT1H
X-Robots-Tag:noindex
X-PUBLISHED-TTL:PT1H
BEGIN:VTIMEZONE
TZID:Europe/Madrid
BEGIN:DAYLIGHT
TZOFFSETFROM:+0100
TZOFFSETTO:+0200
TZNAME:CEST
DTSTART:20160327T010000
END:DAYLIGHT
BEGIN:STANDARD
TZOFFSETFROM:+0200
TZOFFSETTO:+0100
TZNAME:CET
DTSTART:20161030T010000
END:STANDARD
BEGIN:DAYLIGHT
TZOFFSETFROM:+0100
TZOFFSETTO:+0200
TZNAME:CEST
DTSTART:20170326T010000
END:DAYLIGHT
BEGIN:STANDARD
TZOFFSETFROM:+0200
TZOFFSETTO:+0100
TZNAME:CET
DTSTART:20171029T010000
END:STANDARD
BEGIN:DAYLIGHT
TZOFFSETFROM:+0100
TZOFFSETTO:+0200
TZNAME:CEST
DTSTART:20180325T010000
END:DAYLIGHT
BEGIN:STANDARD
TZOFFSETFROM:+0200
TZOFFSETTO:+0100
TZNAME:CET
DTSTART:20181028T010000
END:STANDARD
END:VTIMEZONE
BEGIN:VEVENT
DTSTART;TZID=Europe/Madrid:20170619T173000
DTEND;TZID=Europe/Madrid:20170619T190000
DTSTAMP:20260423T015539
CREATED:20170529T155950Z
LAST-MODIFIED:20170614T154500Z
UID:3165-1497893400-1497898800@www.triarte.net
SUMMARY:17:30 h. Concierto de Violín. Alumnos de Fátima Fernández.
DESCRIPTION:Los alumnos de Violín de nuestra profesora Fátima Fernández festejarán el final de Curso con nosotros ofreciéndonos un maravilloso concierto. \nEntrada libre y gratuita hasta completar el aforo de nuestra Sala de Conciertos. \nPROGRAMA \nYihui Yuan\nCanon en Re M\, J. Pachelbel\nGavotte\, J. Becker\nViolonchelo: Evelyn Martínez  \nAna Lucía Ferrer Sánchez\nCanción del viento\, canción popular\nVe y dile a tía Rodi\, canción popular \nMaría Gómez Narváez\nAllegro\, S. Suzuki \nJuan Rafael Alarcón Saura\nMovimiento perpetuo\, S. Suzuki\nTiempo de violín\, K. y D. Blackwell \nAlonso Fernández Fernández\nPuente de Londres\, canción inglesa\nCarril rápido\, K. y D. Blackwell \nEva Rodríguez Muñoz\nLuces de la ciudad\nJardín Chino\, K. y D. Blackwell \nPablo Benítez Benítez \nVaquero perezoso\nPhoebe y su enagua\, K. y D. Blackwell \nCarmen Martos Martín\nTiptoe\, boo!\nCanción de Clara\, K. y D. Blackwell  \nSara Benito Lorite\nQue empiece el show\nHora del calipso\, K. y D. Blackwell \nMaría Victoria Vargas Fernández\nRecoger un fardo de algodón\, canción Americana\nFinal de “Water Music”\, Handel \nIrene Cordero Rosado\nDanza gitana\, K. y D. Blackwell \nJulia María Rus Delgado\n¡Así es como va!\, K. y D. Blackwell \nIrene Cordero Rosado\nJulia María Rus Delgado\nDiez mil millas de distancia\, Sea Shanty
URL:https://www.triarte.net/evento/1730-h-concierto-de-violin-alumnos-de-fatima-fernandez/
LOCATION:Sala de Conciertos de Triarte\, Calle Corregidor Antonio de Bobadilla\, 16\, Málaga\, 29006\, España
CATEGORIES:Concierto
ATTACH;FMTTYPE=image/png:https://www.triarte.net/wp-content/uploads/2017/05/19-06-2017-CONCIERTO-DE-VIOLIN-FATIMA.png
END:VEVENT
BEGIN:VEVENT
DTSTART;TZID=Europe/Madrid:20170619T200000
DTEND;TZID=Europe/Madrid:20170619T213000
DTSTAMP:20260423T015539
CREATED:20170529T190735Z
LAST-MODIFIED:20170613T161812Z
UID:3168-1497902400-1497907800@www.triarte.net
SUMMARY:20:00 h. Concierto Disney: Clarinete\, Flauta y Saxofón.
DESCRIPTION:El lunes 19 de junio a las 20:00h los alumnos de Clarinete\, Flauta y Clarinete de nuestros profesores Adrián Martín\, C. Beatriz Puche y Juan David Guerrero nos ofrecerán un concierto temático sobre Disney. \nEntrada libre hasta completar el aforo de la sala de conciertos. \nPROGRAMA \nAna Villa Ruiz\, flauta\nHijos del verbo amar\, Pablo López \nBelén Caravias Anaya\, flauta\nPablo Caravias Anaya\, flauta\nDúo para dos flautas\, P. Wastall \nPaula Vázquez García\, flauta\nCanción de Meg\, Hércules \nEstrella Thao Molina Samper\, flauta\nVeo en ti la luz\, Rapunzel \nBerta Lisciotto Vallejo\, flauta\nAlas\, Soy Luna \nCarmen Gómez Martín\, flauta\nQué hay más allá\, Vaiana \nPablo Lara Mendoza\, flauta\nIt’s small world\, Disney \nMiguel Reguera Domínguez\, flauta\nJuan Bosco Rodríguez Alés\, clarinete\nBusca lo más vital\, El Libro de la selva \nJuan Bosco Delgado Fernández\, flauta\nMiguel Porras Muñoz\, clarinete\nEl Jorobado de Notre Dame\, Disney \nMontserrat Martínez Martínez\, flauta\nÁlvaro Cuevas García\, clarinete\n¡Qué Festín!\, La Bella y la Bestia \nSergio Mañas Dueñas\, flauta\nHonra nos darás\, Mulán \nJosé Luis García Fernández\, flauta\nDe cero a héroe\, Hércules \nMario Fernández Gil\, flauta\nLas llamadas del medallón\, Los Piratas del Caribe \nIrene Pardo Molina\, flauta\nHawaiin Roller Coaster Ride\, Lilo y Stitch \nMª Auxiliadora Delgado Fernández\, flauta\nYo voy a ser rey león\, El Rey León \nIrene Cordero Rosado\, flauta\nNo hay un genio tan genial\, Aladdin \nDarío Carrasco Jiménez\, clarinete\nHay un amigo en mi\, Toy Story \nElba María Varela Miguel \nUnchained Melody\, Righteous Brothers  \nMiguel Cobos Aguilar \nLa Pantera Rosa\, H. Mancini  \nAntonio Francisco Luque Cara \nAccidentaly in love\, A. F. Duritz \nMaría Álvarez Ruiz\, flauta\nCarolina Sánchez Peche\, piano\nRiver flows in you\, Yiruma
URL:https://www.triarte.net/evento/2000-h-concierto-disney-clarinete-flauta-y-saxofon/
LOCATION:Sala de Conciertos de Triarte\, Calle Corregidor Antonio de Bobadilla\, 16\, Málaga\, 29006\, España
CATEGORIES:Concierto
ATTACH;FMTTYPE=image/png:https://www.triarte.net/wp-content/uploads/2017/05/19-06-17-CONCIERTO-DE-VIENTO-DISNEY.png
END:VEVENT
END:VCALENDAR