BEGIN:VCALENDAR
VERSION:2.0
PRODID:-//Triarte - Centro de estudios art&iacute;sticos - Conservatorio y escuela de m&uacute;sica, danza y teatro. - ECPv6.15.18//NONSGML v1.0//EN
CALSCALE:GREGORIAN
METHOD:PUBLISH
X-ORIGINAL-URL:https://www.triarte.net
X-WR-CALDESC:Eventos para Triarte - Centro de estudios art&iacute;sticos - Conservatorio y escuela de m&uacute;sica, danza y teatro.
REFRESH-INTERVAL;VALUE=DURATION:PT1H
X-Robots-Tag:noindex
X-PUBLISHED-TTL:PT1H
BEGIN:VTIMEZONE
TZID:Europe/Madrid
BEGIN:DAYLIGHT
TZOFFSETFROM:+0100
TZOFFSETTO:+0200
TZNAME:CEST
DTSTART:20160327T010000
END:DAYLIGHT
BEGIN:STANDARD
TZOFFSETFROM:+0200
TZOFFSETTO:+0100
TZNAME:CET
DTSTART:20161030T010000
END:STANDARD
BEGIN:DAYLIGHT
TZOFFSETFROM:+0100
TZOFFSETTO:+0200
TZNAME:CEST
DTSTART:20170326T010000
END:DAYLIGHT
BEGIN:STANDARD
TZOFFSETFROM:+0200
TZOFFSETTO:+0100
TZNAME:CET
DTSTART:20171029T010000
END:STANDARD
BEGIN:DAYLIGHT
TZOFFSETFROM:+0100
TZOFFSETTO:+0200
TZNAME:CEST
DTSTART:20180325T010000
END:DAYLIGHT
BEGIN:STANDARD
TZOFFSETFROM:+0200
TZOFFSETTO:+0100
TZNAME:CET
DTSTART:20181028T010000
END:STANDARD
END:VTIMEZONE
BEGIN:VEVENT
DTSTART;TZID=Europe/Madrid:20170613T203000
DTEND;TZID=Europe/Madrid:20170613T220000
DTSTAMP:20260423T015534
CREATED:20170529T150535Z
LAST-MODIFIED:20170607T175215Z
UID:3149-1497385800-1497391200@www.triarte.net
SUMMARY:20:30 h. Concierto de Viento: alumnos de Clarinete\, Flauta y Saxofón.
DESCRIPTION:El martes 13 de junio a las 20:30h los alumnos de flauta de C. Beatriz Puche\, los de clarinete de Adrián Martín y los de saxofón de Juan David Guerrero nos ofrecerán un concierto. \nLa entrada será libre hasta completar el aforo de nuestra sala de conciertos. \nPROGRAMA \nEva Gallego Santiago\, flauta\nLe petit negrè\, C. Debussy \nClara Criado Rodríguez\, flauta\nMadrigal para flauta y piano\, P. Gaubert \nCarlos Samuel Villalba Bastida\, flauta\nRomance Op. 37\, C. Saint-Saëns \nIgnacio Álvarez Marín\, flauta\nFantasía para flauta y piano\, G. Hüe \nYasmina Sánchez Martí\, clarinete\nSonata en Si b M\, J. B. Vanhal \nAitana González Valenzuela\, saxofón\nSuite en Si m\, J. S. Bach  \nLucas Nieto Jasny\, saxofón \nFantasie-Impromptu\, A. Jolivet
URL:https://www.triarte.net/evento/2030-h-concierto-de-viento-alumnos-de-clarinete-flauta-y-saxofon/
LOCATION:Sala de Conciertos de Triarte\, Calle Corregidor Antonio de Bobadilla\, 16\, Málaga\, 29006\, España
CATEGORIES:Concierto
ATTACH;FMTTYPE=image/png:https://www.triarte.net/wp-content/uploads/2017/05/13-06-17-CONCIERTO-DE-VIENTO.png
END:VEVENT
END:VCALENDAR