BEGIN:VCALENDAR
VERSION:2.0
PRODID:-//Triarte - Centro de estudios art&iacute;sticos - Conservatorio y escuela de m&uacute;sica, danza y teatro. - ECPv6.15.18//NONSGML v1.0//EN
CALSCALE:GREGORIAN
METHOD:PUBLISH
X-WR-CALNAME:Triarte - Centro de estudios art&iacute;sticos - Conservatorio y escuela de m&uacute;sica, danza y teatro.
X-ORIGINAL-URL:https://www.triarte.net
X-WR-CALDESC:Eventos para Triarte - Centro de estudios art&iacute;sticos - Conservatorio y escuela de m&uacute;sica, danza y teatro.
REFRESH-INTERVAL;VALUE=DURATION:PT1H
X-Robots-Tag:noindex
X-PUBLISHED-TTL:PT1H
BEGIN:VTIMEZONE
TZID:Europe/Madrid
BEGIN:DAYLIGHT
TZOFFSETFROM:+0100
TZOFFSETTO:+0200
TZNAME:CEST
DTSTART:20160327T010000
END:DAYLIGHT
BEGIN:STANDARD
TZOFFSETFROM:+0200
TZOFFSETTO:+0100
TZNAME:CET
DTSTART:20161030T010000
END:STANDARD
BEGIN:DAYLIGHT
TZOFFSETFROM:+0100
TZOFFSETTO:+0200
TZNAME:CEST
DTSTART:20170326T010000
END:DAYLIGHT
BEGIN:STANDARD
TZOFFSETFROM:+0200
TZOFFSETTO:+0100
TZNAME:CET
DTSTART:20171029T010000
END:STANDARD
BEGIN:DAYLIGHT
TZOFFSETFROM:+0100
TZOFFSETTO:+0200
TZNAME:CEST
DTSTART:20180325T010000
END:DAYLIGHT
BEGIN:STANDARD
TZOFFSETFROM:+0200
TZOFFSETTO:+0100
TZNAME:CET
DTSTART:20181028T010000
END:STANDARD
END:VTIMEZONE
BEGIN:VEVENT
DTSTART;TZID=Europe/Madrid:20170520T113000
DTEND;TZID=Europe/Madrid:20170520T130000
DTSTAMP:20260423T000521
CREATED:20170515T173042Z
LAST-MODIFIED:20170517T160321Z
UID:3111-1495279800-1495285200@www.triarte.net
SUMMARY:11:30 h. Concierto de Piano. Alumnos de Mª Isabel Sánchez de Alcázar y Siliana Zdravkova.
DESCRIPTION:El sábado 20 de mayo a las 11:30 h. los alumnos de piano de nuestras profesoras Mª Isabel Sánchez de Alcázar y Siliana Zdravkova nos ofrecerán un concierto. \nEntrada libre y gratuita hasta completar el aforo de nuestra Sala de Conciertos. \nPROGRAMA \nCelia Gutiérrez Bernal\nVals nº 1\, F. Schubert \nGonzalo Fernández García\nVals nº 9\, F. Chopin \nMontserrat Martínez Martínez\nEstudio Op. 46 nº 11\, S. Heller\nEstudio Op. 37 nº 8\, F\, Jensen \nSergio Guillén Jiménez\nPreludio en Do m vol. I de “El clave bien temperado”\, J. S. Bach \nÁngel Luis González Martínez\nMalagueña. I. Albéniz\nAbril\, P. I. Chaikovski \nPablo Álvarez Marín\nSonata en Do M\, W. A. Mozart\nI. Allegro \nLuna López Fernández\nVals sentimental Op. 51 nº 6\, P. I. Chaikovski \nDaniel José Hidalgo Anaya\nPreludio en Sol M vol. II de “El clave bien temperado”\, J. S. Bach \nRafael García Marín\nVisiones fugitivas Op. 22 nº 3 y 10\, S. Prokofiev  \nJuan Carlos Lastra Mateos\nInvención en Fa M\, J. S. Bach\nVals nº 9\, F. Chopin \nDayla Céspedes Ordóñez\nDanza de la moza donosa\, A. Ginastera \nCristina Aragón García\nPieza lírica a la primavera\, E. Grieg \nCarlos Samuel Villalba Bastida\nRapsodia húngara nº 3\, F. Liszt \nPablo Frías Lobo\nNocturno nº 2\, F. Liszt \nIsabel María Rodríguez Alés\nCórdoba\, I. Albéniz
URL:https://www.triarte.net/evento/1130-h-concierto-de-piano-alumnos-de-ma-isabel-sanchez-de-alcazar-y-siliana-zdravkova/
LOCATION:Sala de Conciertos de Triarte\, Calle Corregidor Antonio de Bobadilla\, 16\, Málaga\, 29006\, España
CATEGORIES:Concierto
ATTACH;FMTTYPE=image/png:https://www.triarte.net/wp-content/uploads/2017/05/20-05-2017-CONCIERTO-DE-WEB.png
END:VEVENT
END:VCALENDAR