BEGIN:VCALENDAR
VERSION:2.0
PRODID:-//Triarte - Centro de estudios art&iacute;sticos - Conservatorio y escuela de m&uacute;sica, danza y teatro. - ECPv6.15.18//NONSGML v1.0//EN
CALSCALE:GREGORIAN
METHOD:PUBLISH
X-ORIGINAL-URL:https://www.triarte.net
X-WR-CALDESC:Eventos para Triarte - Centro de estudios art&iacute;sticos - Conservatorio y escuela de m&uacute;sica, danza y teatro.
REFRESH-INTERVAL;VALUE=DURATION:PT1H
X-Robots-Tag:noindex
X-PUBLISHED-TTL:PT1H
BEGIN:VTIMEZONE
TZID:Europe/Madrid
BEGIN:DAYLIGHT
TZOFFSETFROM:+0100
TZOFFSETTO:+0200
TZNAME:CEST
DTSTART:20160327T010000
END:DAYLIGHT
BEGIN:STANDARD
TZOFFSETFROM:+0200
TZOFFSETTO:+0100
TZNAME:CET
DTSTART:20161030T010000
END:STANDARD
BEGIN:DAYLIGHT
TZOFFSETFROM:+0100
TZOFFSETTO:+0200
TZNAME:CEST
DTSTART:20170326T010000
END:DAYLIGHT
BEGIN:STANDARD
TZOFFSETFROM:+0200
TZOFFSETTO:+0100
TZNAME:CET
DTSTART:20171029T010000
END:STANDARD
BEGIN:DAYLIGHT
TZOFFSETFROM:+0100
TZOFFSETTO:+0200
TZNAME:CEST
DTSTART:20180325T010000
END:DAYLIGHT
BEGIN:STANDARD
TZOFFSETFROM:+0200
TZOFFSETTO:+0100
TZNAME:CET
DTSTART:20181028T010000
END:STANDARD
END:VTIMEZONE
BEGIN:VEVENT
DTSTART;TZID=Europe/Madrid:20170426T193000
DTEND;TZID=Europe/Madrid:20170426T210000
DTSTAMP:20260422T203504
CREATED:20170420T171714Z
LAST-MODIFIED:20170424T160217Z
UID:2987-1493235000-1493240400@www.triarte.net
SUMMARY:19:30 h. Concierto de Primavera: alumnos de Violín\, Viola y Conjunto de Cuerda
DESCRIPTION:El miércoles 26 de abril a las 19:30 h. los alumnos de Violín\, Viola y Conjunto de Cuerda nos ofrecerán un concierto. \nLa entrada será libre hasta completar el aforo de nuestra sala de conciertos. \nPROGRAMA \nLorenzo Cuevas García\, violín\nMazurka\, P. de Keyser \nAlejandra Gallego Mula\, violín \nVictoria Gallego Mula\, piano\nEstrellita\, popular\nMalagueñas guapas\, popular \nAlba Martínez Martínez\, violín\nRondó Op. 22 nº 3\, O. Rieding \nEmily Jiménez Branashko\, violín\nConcierto Op. 35\, O. Rieding\nI Allegro moderato\nII Andante\nIII Allegro moderato \nMª José Martín Sánchez\, violín\nSonatina en Sol M Anh. 5 nº 1\, L van Beethoven\nI Moderato\nII Romance\nConcierto Op. 13\, F. Seitz\nI Allegro non troppo \nPatricia Medina Calleja\, violín\nConcierto RV 299\, A. Vivaldi\nI Allegro assai\nConcertino Op. 13\, L. Portnoff\nIII Finale allegretto \nPablo Rivero Miguel\, violín\nConcierto RV 310\, A. Vivaldi\nI Allegro\nConcierto Op. 22\, F. Seitz\nI Allegro moderato \nLola Ruiz Verdugo\, violín\nConcierto RV 356\, A. Vivaldi\nI Allegro\nConcierto Op. 22\, F. Seitz\nIII Rondó \nÁngela Serrano Moreno\, viola\nConcierto TWV 51:G9\, G. Ph. Telemann\nII Allegro \nSonatina Op. 52b\, B. Hummel\nI Allegro maestoso \nMiguel Hernández Aguilera\, violín\nConcierto BWV 1041\, J. S. Bach\nI Allegro \nMario Roldán Moncayo\, violín\nSoneto nº 3 ‘Oració al maig’\, E. Toldra \nAna Cristina Redondo Sánchez\, violín\nPlayera Op. 23 nº 1\, P. Sarasate \nCelia Salgado Fuentes\, violín\nSonata Op. 12 nº 1\, L. van Beethoven\nI Allegro con brio\nII Tema y variaciones\nIII Rondó \nIsabel Herrera Flores\, violín\nChoses vues à droite et à gauche\, E. Satie\nI Choral hypocrite\nII Fugue à tâtons\nIII Fantaisie musculaire \nSofía Evtimova Georgieva\, violín\nConcierto en Sol m Op. 26\, M. Bruch\nI Allegro moderato \nConjunto de Cuerda \nViolin\nCelia Salgado Fuentes\nSofía Evtimova Georgieva\nIsabel Herrera Flores\nAna Cristina Redondo Sánchez\nLola Ruiz Verdugo \nViola\nMary Jenner\nPablo García Perals  \nViolonchelo\nFrancisco Jurado Zambrana \nConcierto en Sol m RV 417\, A. Vivaldi\nI Allegro\nSolista: Pablo García Perals\, viola \nConcierto para dos violines en Re m BWV 1043 \, J. S. Bach\nI Vivace\nSolistas: Ana Cristina Redondo Sánchez\, violín
URL:https://www.triarte.net/evento/1900-h-concierto-de-primavera-alumnos-de-violin-viola-y-conjunto-de-cuerda/
LOCATION:Sala de Conciertos de Triarte\, Calle Corregidor Antonio de Bobadilla\, 16\, Málaga\, 29006\, España
CATEGORIES:Concierto
ATTACH;FMTTYPE=image/png:https://www.triarte.net/wp-content/uploads/2017/04/26-4-2017-CONCIERTO-DE-VIOLIN.png
END:VEVENT
END:VCALENDAR