BEGIN:VCALENDAR
VERSION:2.0
PRODID:-//Triarte - Centro de estudios art&iacute;sticos - Conservatorio y escuela de m&uacute;sica, danza y teatro. - ECPv6.15.18//NONSGML v1.0//EN
CALSCALE:GREGORIAN
METHOD:PUBLISH
X-WR-CALNAME:Triarte - Centro de estudios art&iacute;sticos - Conservatorio y escuela de m&uacute;sica, danza y teatro.
X-ORIGINAL-URL:https://www.triarte.net
X-WR-CALDESC:Eventos para Triarte - Centro de estudios art&iacute;sticos - Conservatorio y escuela de m&uacute;sica, danza y teatro.
REFRESH-INTERVAL;VALUE=DURATION:PT1H
X-Robots-Tag:noindex
X-PUBLISHED-TTL:PT1H
BEGIN:VTIMEZONE
TZID:Europe/Madrid
BEGIN:DAYLIGHT
TZOFFSETFROM:+0100
TZOFFSETTO:+0200
TZNAME:CEST
DTSTART:20150329T010000
END:DAYLIGHT
BEGIN:STANDARD
TZOFFSETFROM:+0200
TZOFFSETTO:+0100
TZNAME:CET
DTSTART:20151025T010000
END:STANDARD
BEGIN:DAYLIGHT
TZOFFSETFROM:+0100
TZOFFSETTO:+0200
TZNAME:CEST
DTSTART:20160327T010000
END:DAYLIGHT
BEGIN:STANDARD
TZOFFSETFROM:+0200
TZOFFSETTO:+0100
TZNAME:CET
DTSTART:20161030T010000
END:STANDARD
BEGIN:DAYLIGHT
TZOFFSETFROM:+0100
TZOFFSETTO:+0200
TZNAME:CEST
DTSTART:20170326T010000
END:DAYLIGHT
BEGIN:STANDARD
TZOFFSETFROM:+0200
TZOFFSETTO:+0100
TZNAME:CET
DTSTART:20171029T010000
END:STANDARD
END:VTIMEZONE
BEGIN:VEVENT
DTSTART;TZID=Europe/Madrid:20161220T173000
DTEND;TZID=Europe/Madrid:20161220T173000
DTSTAMP:20260423T124035
CREATED:20161128T180403Z
LAST-MODIFIED:20161214T200000Z
UID:2137-1482255000-1482255000@www.triarte.net
SUMMARY:17:30 h. Concierto de Iniciación a la Música. Alumnos de Fátima Fernández.
DESCRIPTION:Los alumnos de Iniciación a la Música con edades comprendidas de los 4 a los 7 años celebrarán la Navidad ofreciéndonos un Concierto. Es por ello que los alumnos de nuestra profesora Fátima Fernández actuarán ofreciéndonos el siguiente programa: \nPROGRAMA \nTaller Musical Infantil\nBenítez Benítez\, Pablo\nBonachera Martín\, Olga\nDomínguez González\, Ismael Andrés\nFernández Gil\, Noa\nJurado Rubio\, Miguel\nLabajos Lázaro\, Gonzalo\nMelwani Nanwani\, Sara\nMorales Muñoz\, Pablo\nMuñoz Medina\, María\nRodríguez Muñoz\, Eva\nRodríguez Sánchez\, Alejandra\nTorres Roldán\, Marina\nVillena Marín\, Álvaro\nYe \, Jiayi\nZea Gaitán\, Adrián \nJuego Rítmico\nDing Dong! Merrily on high\nCampanitas Afinadas\nPastores\, escuchad la música\nCanciones \nMi burrito Sabanero\nArre borriquito\nAlegría\, alegría\, alegría\nNavidad\, navidad \nTaller Musical Preparatorio\nAgudo González\, Nicolás\n Calvo Recio\, Iván\n Caravias Anaya\, Pablo\n Gómez Martín\, Carmen\n Infantes Romero\, Daniel\n Marcos Garratón\, Santiago\n Martín Marfil\, Pablo\n Morales Gutiérrez\, Lucas José\n Navarrete Becerra\, Carlos\n Pardo Lavado\, Alejandro\n Rico Jiménez\, Claudia\n Rivas Muñoz\, Lucía\n Ruiz Rivero\, Álvaro\n Rus Delgado\, Julia María\n Vázquez García\, Paula\n Wang\, Yueran\n Ye \, Yining \nBanda de Flautas\nCon amor\nLa flauta mágica\nCampanitas Afinadas\nThe first Nowell\nCanciones\nInvierno\n¿Dónde está Jesús?\nCanta\, ríe y bebe
URL:https://www.triarte.net/evento/1730-h-concierto-de-iniciacion-a-la-musica-3/
LOCATION:Sala de Conciertos de Triarte\, Calle Corregidor Antonio de Bobadilla\, 16\, Málaga\, 29006\, España
CATEGORIES:Concierto
ATTACH;FMTTYPE=image/png:https://www.triarte.net/wp-content/uploads/2016/11/20-12-2016-CONCIERTO-DE-INICIACION-FATIMA-17_30.png
END:VEVENT
BEGIN:VEVENT
DTSTART;TZID=Europe/Madrid:20161220T203000
DTEND;TZID=Europe/Madrid:20161220T203000
DTSTAMP:20260423T124035
CREATED:20161128T181932Z
LAST-MODIFIED:20170529T151523Z
UID:2139-1482265800-1482265800@www.triarte.net
SUMMARY:20:30 h. Concierto de Violín Viola. Alumnos de Mary Jenner.
DESCRIPTION:Los alumnos de Violín y Viola de nuestra profesora Mary Jenner festejarán la Navidad con nosotros ofreciéndonos un maravilloso Concierto de Cuerda. \nEntrada libre y gratuita hasta completar el aforo de nuestra Sala de Conciertos. \nPROGRAMA\nIsabel Herrera Flores\, violín\nPartita en Si m BWV 1002\, J. S. Bach\nDouble III\nNicolás León Morote\, violín\nOratorio Judas Macabeo\, G. F. Handel\nEl júbilo de los cánticos\nEsteban Morales Muñoz\, violín \nSuite inglesa nº 3 BWV 808\, J. S. Bach\nMusette: Andante Pastorale\nEmily Jiménez Branashko\, violín \nConcierto en Si m Op. 35\, O. Rieding\nI. Allegro moderato\nAlba Martínez Martínez\, violín\nConcierto en Si m Op. 35\, O. Rieding\nIII. Allegro moderato\nMaría José Martín Sánchez\, violín\nSonata en Sol M Op. 1 nº 3\, G. F. Handel\nII. Allegro\nIV. Bourrée\nV. Minueto\nJavier Hernández Aguilera\, violín\nConcierto en Si m Op. 35\, O. Rieding\nI. Allegro moderato\nPablo Rivero Miguel\, violín\nConcierto en Sol M RV 310\, A.Vivaldi\nI. Allegro\nPatricia Medina Calleja\, violín\nConcierto en Sol M RV 299\, A.Vivaldi\nI. Allegro Assai\nÁngela Serrano Moreno\, viola\nConcierto en Sol M TWV 51:G9\, G. P. Telemann\nII. Allegro\nLola Ruiz Verdugo\, violín\nConcierto en La m RV 356\, A.Vivaldi\nI: Allegro\nPablo García Perals\, viola\nConcierto en Sol m RV 417\, A. Vivaldi\nI. Allegro\nAna Cristina Redondo Sánchez\, violín\nConcertino Op. 21 en estilo húngaro\, O. Rieding\nSerenata Española\, C. Bohm\nCelia Salgado Fuentes\, violín\nConcierto K216\, W. A. Mozart\nI. Allegro\nPianista acompañante: Siliana Zdravkova
URL:https://www.triarte.net/evento/2030-h-concierto-de-violin/
LOCATION:Sala de Conciertos de Triarte\, Calle Corregidor Antonio de Bobadilla\, 16\, Málaga\, 29006\, España
CATEGORIES:Concierto
ATTACH;FMTTYPE=image/png:https://www.triarte.net/wp-content/uploads/2016/11/20-12-2016-CONCIERTO-DE-CUERDA-20_30.png
END:VEVENT
END:VCALENDAR