BEGIN:VCALENDAR
VERSION:2.0
PRODID:-//Triarte - Centro de estudios art&iacute;sticos - Conservatorio y escuela de m&uacute;sica, danza y teatro. - ECPv6.15.18//NONSGML v1.0//EN
CALSCALE:GREGORIAN
METHOD:PUBLISH
X-ORIGINAL-URL:https://www.triarte.net
X-WR-CALDESC:Eventos para Triarte - Centro de estudios art&iacute;sticos - Conservatorio y escuela de m&uacute;sica, danza y teatro.
REFRESH-INTERVAL;VALUE=DURATION:PT1H
X-Robots-Tag:noindex
X-PUBLISHED-TTL:PT1H
BEGIN:VTIMEZONE
TZID:Europe/Madrid
BEGIN:DAYLIGHT
TZOFFSETFROM:+0100
TZOFFSETTO:+0200
TZNAME:CEST
DTSTART:20150329T010000
END:DAYLIGHT
BEGIN:STANDARD
TZOFFSETFROM:+0200
TZOFFSETTO:+0100
TZNAME:CET
DTSTART:20151025T010000
END:STANDARD
BEGIN:DAYLIGHT
TZOFFSETFROM:+0100
TZOFFSETTO:+0200
TZNAME:CEST
DTSTART:20160327T010000
END:DAYLIGHT
BEGIN:STANDARD
TZOFFSETFROM:+0200
TZOFFSETTO:+0100
TZNAME:CET
DTSTART:20161030T010000
END:STANDARD
BEGIN:DAYLIGHT
TZOFFSETFROM:+0100
TZOFFSETTO:+0200
TZNAME:CEST
DTSTART:20170326T010000
END:DAYLIGHT
BEGIN:STANDARD
TZOFFSETFROM:+0200
TZOFFSETTO:+0100
TZNAME:CET
DTSTART:20171029T010000
END:STANDARD
END:VTIMEZONE
BEGIN:VEVENT
DTSTART;TZID=Europe/Madrid:20161219T173000
DTEND;TZID=Europe/Madrid:20161219T173000
DTSTAMP:20260423T143623
CREATED:20161128T174749Z
LAST-MODIFIED:20161214T192503Z
UID:2131-1482168600-1482168600@www.triarte.net
SUMMARY:17:30 h. Concierto de Iniciación a la Música. Alumnos de Rosario Hidalgo y Susana Santamaría.
DESCRIPTION:Los alumnos de Iniciación a la Música con edades comprendidas de los 4 a los 6 años celebrarán la Navidad ofreciéndonos un Concierto. Es por ello que los alumnos de nuestras profesoras Rosario Hidalgo y Susana Santamaría actuarán ofreciéndonos el siguiente programa: \nTaller Musical Preescolar \nAlexandrova De Miguel\, Victoria\nAlmahano Hernández\, Amanda\nAntón Vegas\, Severino\nDa Rocha García\, Rafael\nFernández Fernández\, Alonso\nGarcía Márquez\, Belén\nGarcía Sánchez\, David\nGonzález Aranda\, Elena\nLobo Jiménez\, Ernesto Jesús\nLópez Narváez\, Álvaro\nMartín Marfil\, Oriol\nMartínez Gámez\, Carlos\nMiró García\, Martina\nMuñoz Medina\, Manuela\nRamírez Terrón\, Adriana\nRueda de Lara\, Iván\nSegura Esteban\, Diana\nTerol Del Río\, Lucía\nTorres Fernández\, Javier \nDanza\nEl baile picado\nCanciones\nEstrellita multicolor\nNavidad\nChiquitín\, chiquitín\nQuieto\, quieto\nSin gasolina \nTaller Musical Infantil \nÁvila Domínguez\, Elvira\nBorrego Ortiz\, Ana\nCarrera Ávila\, Damián Antonio\nGuzmán Herrera\, Juan\nHerrera Suero\, Sara\nUroz Rojas\, Gabriel \nDanza \nDanza irlandesa\nCanciones\nMi burrito sabanero\nHuachi Torito\nEsta estrella tan bonita\nNavidad\, Navidad \nPianista: Susana Santamaría
URL:https://www.triarte.net/evento/1730-h-concierto-de-iniciacion-a-la-musica-2/
LOCATION:Sala de Conciertos de Triarte\, Calle Corregidor Antonio de Bobadilla\, 16\, Málaga\, 29006\, España
CATEGORIES:Concierto
ATTACH;FMTTYPE=image/png:https://www.triarte.net/wp-content/uploads/2016/11/19-12-2016-CONCIERTO-DE-INICIACION-CHARI-SUSANA-17_30.png
END:VEVENT
BEGIN:VEVENT
DTSTART;TZID=Europe/Madrid:20161219T200000
DTEND;TZID=Europe/Madrid:20161219T200000
DTSTAMP:20260423T143623
CREATED:20161128T175315Z
LAST-MODIFIED:20161214T194220Z
UID:2134-1482177600-1482177600@www.triarte.net
SUMMARY:20:00 h. Concierto de Navidad: Coro de Voces Blancas\, Coro Juvenil y Orquesta de Cámara. Iglesia de los Mártires.
DESCRIPTION:Triarte tiene el placer de presentar el concierto que se ofrecerá en la Parroquia de los Santos Mártires el próximo 19 de Diciembre a las 20:00h. \nEstas agrupaciones nacen en un principio\, como complemento a la formación musical de los alumnos que cursan estudios de música en Triarte\, aprovechando sus conocimientos vocales e instrumentales\, interés e ilusión. \nLos coros\, a través del trabajo en el aula\, abarcan un amplio repertorio que va desde obras con texto en diferentes idiomas\, cantando a varias voces\, unas veces “a capella”\, otras con piano o acompañadas por la Orquesta de Cámara. Esta\, a su vez\, está formada en su mayoría\, por alumnos de enseñanzas profesionales\, apoyada al mismo tiempo por algunos profesores de Triarte\, que con su esfuerzo y dedicación\, alcanzan un buen resultado musical\, unas veces acompañando al coro y otras interpretando obras para cuerda\, viento madera y concierto para solistas. \nHemos ofrecido conciertos en la Parroquia de S. Mª Goretti\, en la Parroquia de Santiago\, en la Sala Mª Cristina-Fundación Unicaja\, en el Centro Cultural Provincial y en el Auditorio Edgar Neville\, ambos de la Diputación de Málaga. \nRosario Hidalgo\, su directora\, quiere agradecer una vez más a la Parroquia Santos Mártires\, la cesión de este lugar tan emblemático y bello\, que permite a nuestras voces e instrumentos\, acercarnos de manera muy especial para poder celebrar en estos de días de Adviento\, la llegada de Jesús\, deseando a través de la Música a todos los asistentes\, una Feliz Navidad. \nPuedes seguir todas las novedades del concierto en nuestra página web así como en las redes sociales. Podéis pinchar sobre el siguiente enlace para ir al evento en Facebook: \nEnlace al evento de Facebook \nPROGRAMA\nCoro de Voces Blancas\nLa pastora Catalina\, a 1 v. España\nCorre al portalito\, canon a 2 v. España\nNiño de mi vida\, a 3 v. España. L. Bedmar\nBuscando a Belén\, a 2 v. España. Arr. R. Hidalgo \nHuachi Torito\, a 2 v. Argentina. Arr. M. Sanchidrián\nThe time of snow\, a 1 v. Inglaterra. B. Chilcott\nTres aguinaldos de navidad\, a 2 v. Venezuela-México. Arr. D. Andreo \nCoro Juvenil\nIrish Blessing\, a 3 v. Irlanda. B. Chilcott\nNativity Carol\, a 3 v. Inglaterra. J. Rutter\nMazapán con miel\, a 3 v.m. Argentina. Arr. D. Andreo\nPero mira como beben\, a 3 v.m. España. Arr. M. Asins Arbó\nEsta noche nace el Niño\, a 3 v. España. Arr. D. Andreo \nOrquesta de Cámara\nConcierto de Brandenburgo nº 3 en Sol M. BWV 1048 mov. I\, J. S. Bach \nCoro y Orquesta de Cámara\nCandlelight carol\, a 4 v. Inglaterra. J. Rutter\nPopurrí villancicos andaluces\, a 1 v. Arr. F. Jurado\, E. Domínguez y J. M. Padilla \nOrquesta de Cámara\, Integrantes\nViolines I \nFátima Fernández García\nSofía Eugenia Evtimova Georgieva\nCelia Salgado Fuentes\nAna Cristina Redondo Sánchez\nPaula Martín González\nViolines II\nIsabel Herrera Flores\nLola Ruiz Verdugo\nRafael Luque Ruiz de Mier\nMario Roldán Moncayo\nViolas\nMary Jenner\nPablo García Perals\nJorge García Perals\nEduardo Hidalgo López\nJennifer Rodríguez Serrano\nViolonchelos\nEvelyn Martínez Lara\nClaudia Sánchez Morón\nAna Molina Muñoz\nFlautas Traveseras\nBlanca Salgado Fuentes\nIgnacio Álvarez Marín\nClarinete\nMaría del Carmen Ruiz González\nPiano – Clave – Órgano\nSiliana Zdravkova Asparouhova\nDaniel Hidalgo Anaya\nDirectora\nRosario Hidalgo López
URL:https://www.triarte.net/evento/2000-h-concierto-de-navidad-coro-de-voces-blancas-coro-juvenil-y-orquesta-de-camara/
LOCATION:Parroquia de los Santos Mártires Ciriaco y Paula\, Plaza de los Mártires\, 1\, Málaga\, 29008 \, España
CATEGORIES:Concierto
ATTACH;FMTTYPE=image/png:https://www.triarte.net/wp-content/uploads/2016/11/mártire-web-final.png
END:VEVENT
END:VCALENDAR