BEGIN:VCALENDAR
VERSION:2.0
PRODID:-//Triarte - Centro de estudios art&iacute;sticos - Conservatorio y escuela de m&uacute;sica, danza y teatro. - ECPv6.15.18//NONSGML v1.0//EN
CALSCALE:GREGORIAN
METHOD:PUBLISH
X-WR-CALNAME:Triarte - Centro de estudios art&iacute;sticos - Conservatorio y escuela de m&uacute;sica, danza y teatro.
X-ORIGINAL-URL:https://www.triarte.net
X-WR-CALDESC:Eventos para Triarte - Centro de estudios art&iacute;sticos - Conservatorio y escuela de m&uacute;sica, danza y teatro.
REFRESH-INTERVAL;VALUE=DURATION:PT1H
X-Robots-Tag:noindex
X-PUBLISHED-TTL:PT1H
BEGIN:VTIMEZONE
TZID:Europe/Madrid
BEGIN:DAYLIGHT
TZOFFSETFROM:+0100
TZOFFSETTO:+0200
TZNAME:CEST
DTSTART:20160327T010000
END:DAYLIGHT
BEGIN:STANDARD
TZOFFSETFROM:+0200
TZOFFSETTO:+0100
TZNAME:CET
DTSTART:20161030T010000
END:STANDARD
BEGIN:DAYLIGHT
TZOFFSETFROM:+0100
TZOFFSETTO:+0200
TZNAME:CEST
DTSTART:20170326T010000
END:DAYLIGHT
BEGIN:STANDARD
TZOFFSETFROM:+0200
TZOFFSETTO:+0100
TZNAME:CET
DTSTART:20171029T010000
END:STANDARD
BEGIN:DAYLIGHT
TZOFFSETFROM:+0100
TZOFFSETTO:+0200
TZNAME:CEST
DTSTART:20180325T010000
END:DAYLIGHT
BEGIN:STANDARD
TZOFFSETFROM:+0200
TZOFFSETTO:+0100
TZNAME:CET
DTSTART:20181028T010000
END:STANDARD
END:VTIMEZONE
BEGIN:VEVENT
DTSTART;TZID=Europe/Madrid:20170512T203000
DTEND;TZID=Europe/Madrid:20170512T220000
DTSTAMP:20260422T130121
CREATED:20170508T180849Z
LAST-MODIFIED:20170510T150200Z
UID:3083-1494621000-1494626400@www.triarte.net
SUMMARY:20:30h. Concierto de Piano. Alumnos de Sara González y Eloísa Domínguez.
DESCRIPTION:El viernes 12 de mayo a las 20:30h los alumnos de piano de nuestras profesoras Sara González\, y Eloísa Domínguez nos ofrecerán un concierto. \nEntrada libre y gratuita hasta completar el aforo de nuestra Sala de Conciertos. \nPROGRAMA \nNoa Fernández Gil\nLos árboles de Navidad\, J. Bastien\nAlegre San Nicolás\, J. Bastien \nDamián Antonio Carrera Ávila\nNavegando\, Tchokov-Gemiú\nEl tic-tac del reloj\, Tchokov-Gemiú \nNora Ramírez Arias\nMª Lourdes Arias Terrassa\nAl pasar la barca\, Tchokov-Gemiú\nCucú\, Thokov-Gemiú \nSamuel Cortés Urbano\nHumpty-Dumpty\, J. Bastien\nLos pececitos\, J. Bastien \nJosé Luis Vílchez Gómez\nPatinando sobre hielo\, Tchokov-Gemiú\nEl abedul\, P. I. Tchaikovsky \nAlmudena Clavero Aponte\nAl compás del swing\, J. Bastien\nNubes que pasan\, J. Bastien \nAntonio Jurado Rubio\nVieille chanson\, Gurlitt\nMercado persa\, J. Bastien \nEsther Jiménez Rodríguez\nDanse ancienne\, Gnyesina\nChildren’s song\, B. Bartók \nIrene Asencio Florido\nSonatina Op. 37 nº 1\, M. Clementi\nII. Andante \nPablo García Muñoz\nJuego de tronos\, R. Djawadi \nJavier Ramírez Arias\nRaider’s march de “Indiana Jones”\, J. Williams \nEva Yi Ran Xu\nSonatina Op. 36 nº 3\, M. Clementi\nII. Un poco Adagio\nIII. Allegro \nBlanca Amestoy Sánchez\nMenuet\, H. Purcell\nEstudio Op. 37 nº 20\, H. Lemoine \nJosé María Durán Benítez\nInvención 14\, J. S. Bach\nValse Op. 25 nº 2\, I. Albéniz \nAna Iranzo Vega\nEstudio Op. 47 nº 11\, H. Bertini\nReverie\, P. I. Tchaikovsky \nAnna Fedorets \nInvención nº 9\, J. S. Bach\nCinco danzas gitanas “Zambra»\, J. Turina \nMarina Díaz Gómez\nSonata Op. 31 nº 2\, L. van Beethoven\nIII. Allegretto\nRondó capriccioso\, F. Mendelssohn
URL:https://www.triarte.net/evento/2030h-concierto-de-piano-2/
LOCATION:Sala de Conciertos de Triarte\, Calle Corregidor Antonio de Bobadilla\, 16\, Málaga\, 29006\, España
CATEGORIES:Concierto
ATTACH;FMTTYPE=image/png:https://www.triarte.net/wp-content/uploads/2017/05/12-05-2017-CONCIERTO-DE-PIANO-SARA.png
END:VEVENT
END:VCALENDAR