BEGIN:VCALENDAR
VERSION:2.0
PRODID:-//Triarte - Centro de estudios art&iacute;sticos - Conservatorio y escuela de m&uacute;sica, danza y teatro. - ECPv6.15.18//NONSGML v1.0//EN
CALSCALE:GREGORIAN
METHOD:PUBLISH
X-WR-CALNAME:Triarte - Centro de estudios art&iacute;sticos - Conservatorio y escuela de m&uacute;sica, danza y teatro.
X-ORIGINAL-URL:https://www.triarte.net
X-WR-CALDESC:Eventos para Triarte - Centro de estudios art&iacute;sticos - Conservatorio y escuela de m&uacute;sica, danza y teatro.
REFRESH-INTERVAL;VALUE=DURATION:PT1H
X-Robots-Tag:noindex
X-PUBLISHED-TTL:PT1H
BEGIN:VTIMEZONE
TZID:Europe/Madrid
BEGIN:DAYLIGHT
TZOFFSETFROM:+0100
TZOFFSETTO:+0200
TZNAME:CEST
DTSTART:20230326T010000
END:DAYLIGHT
BEGIN:STANDARD
TZOFFSETFROM:+0200
TZOFFSETTO:+0100
TZNAME:CET
DTSTART:20231029T010000
END:STANDARD
BEGIN:DAYLIGHT
TZOFFSETFROM:+0100
TZOFFSETTO:+0200
TZNAME:CEST
DTSTART:20240331T010000
END:DAYLIGHT
BEGIN:STANDARD
TZOFFSETFROM:+0200
TZOFFSETTO:+0100
TZNAME:CET
DTSTART:20241027T010000
END:STANDARD
BEGIN:DAYLIGHT
TZOFFSETFROM:+0100
TZOFFSETTO:+0200
TZNAME:CEST
DTSTART:20250330T010000
END:DAYLIGHT
BEGIN:STANDARD
TZOFFSETFROM:+0200
TZOFFSETTO:+0100
TZNAME:CET
DTSTART:20251026T010000
END:STANDARD
END:VTIMEZONE
BEGIN:VEVENT
DTSTART;TZID=Europe/Madrid:20240621T203000
DTEND;TZID=Europe/Madrid:20240621T214500
DTSTAMP:20260423T110428
CREATED:20240614T173801Z
LAST-MODIFIED:20240620T141554Z
UID:10122-1719001800-1719006300@www.triarte.net
SUMMARY:20:30 h | Concierto Piano. Alumnos de Maribel Sánchez de Alcázar y Siliana Zdravkova
DESCRIPTION:Dentro de las actividades programadas por TRIARTE para el Final de Curso 23/24\, está la de realizar conciertos para mejorar la formación de nuestros alumnos. \n? El viernes 21 de junio a las 20:30 h los alumnos de Piano  de nuestra profesora Maribel Sánchez de Alcázar y  Siliana Zdravkova nos ofrecerán un concierto. \n? La entrada será libre hasta completar el aforo de nuestra sala de conciertos. \nPrograma\nJuan Guzmán Herrera\nDanza española nº 5\, E. Granados \nManuel Salido Martín\nLa la lan J. Hurwitz \nJesús Rivera Vera\nNocturno op. 15 nº 1\, F. Chopin \nAna Borrego Ortiz\nGalop final\, A. Casella\nCuento de hadas\, D. Kabalevski \nEsteban Morales Muñoz\nPreludio nº 4\, F. Chopin \nAlba Martínez Martínez\nSonatina en La menor\, J. A. Benda \nMar García Márquez\nSonata nº 25\, L. Van Beethoven\nII. Andante\nGeneralife\, J. Turina
URL:https://www.triarte.net/evento/2030-h-concierto-piano-alumnos-de-maribel-sanchez-de-alcazar-y-siliana-zdravkova/
LOCATION:Sala de Conciertos de Triarte\, Calle Corregidor Antonio de Bobadilla\, 16\, Málaga\, 29006\, España
CATEGORIES:Concierto
ATTACH;FMTTYPE=image/jpeg:https://www.triarte.net/wp-content/uploads/2024/06/web-21-06-CONCIERTO-DE-PIANO-MARIBEL-Y-SILIANA.jpg
END:VEVENT
END:VCALENDAR