BEGIN:VCALENDAR
VERSION:2.0
PRODID:-//Triarte - Centro de estudios art&iacute;sticos - Conservatorio y escuela de m&uacute;sica, danza y teatro. - ECPv6.15.18//NONSGML v1.0//EN
CALSCALE:GREGORIAN
METHOD:PUBLISH
X-WR-CALNAME:Triarte - Centro de estudios art&iacute;sticos - Conservatorio y escuela de m&uacute;sica, danza y teatro.
X-ORIGINAL-URL:https://www.triarte.net
X-WR-CALDESC:Eventos para Triarte - Centro de estudios art&iacute;sticos - Conservatorio y escuela de m&uacute;sica, danza y teatro.
REFRESH-INTERVAL;VALUE=DURATION:PT1H
X-Robots-Tag:noindex
X-PUBLISHED-TTL:PT1H
BEGIN:VTIMEZONE
TZID:Europe/Madrid
BEGIN:DAYLIGHT
TZOFFSETFROM:+0100
TZOFFSETTO:+0200
TZNAME:CEST
DTSTART:20170326T010000
END:DAYLIGHT
BEGIN:STANDARD
TZOFFSETFROM:+0200
TZOFFSETTO:+0100
TZNAME:CET
DTSTART:20171029T010000
END:STANDARD
BEGIN:DAYLIGHT
TZOFFSETFROM:+0100
TZOFFSETTO:+0200
TZNAME:CEST
DTSTART:20180325T010000
END:DAYLIGHT
BEGIN:STANDARD
TZOFFSETFROM:+0200
TZOFFSETTO:+0100
TZNAME:CET
DTSTART:20181028T010000
END:STANDARD
BEGIN:DAYLIGHT
TZOFFSETFROM:+0100
TZOFFSETTO:+0200
TZNAME:CEST
DTSTART:20190331T010000
END:DAYLIGHT
BEGIN:STANDARD
TZOFFSETFROM:+0200
TZOFFSETTO:+0100
TZNAME:CET
DTSTART:20191027T010000
END:STANDARD
END:VTIMEZONE
BEGIN:VEVENT
DTSTART;TZID=Europe/Madrid:20180209T203000
DTEND;TZID=Europe/Madrid:20180209T213000
DTSTAMP:20260422T130326
CREATED:20180205T171256Z
LAST-MODIFIED:20180206T185407Z
UID:4080-1518208200-1518211800@www.triarte.net
SUMMARY:20:30 h. Concierto de Piano.
DESCRIPTION:El viernes 9 de febrero a las 20:30h los alumnos de piano de nuestros profesores Mª Isabel Sánchez de Alcázar\, Siliana Zdravkova\, Javier Puche y Álvaro Saldaña nos ofrecerán un concierto. \nEntrada libre y gratuita hasta completar el aforo de nuestra Sala de Conciertos. \nPROGRAMA \nBlanca Amestoy Sánchez\nEstudio Op. 29 nº 8\, H. Bertini \nIsabel María Ambrosio Luque\nSonatina en Do M.\, F. Kulahu\nI. Allegro\nImagen poética op. 3\, E. Grieg \nJosé María Durán Benítez \nInvención en Fa m\, J. S. Bach \nJuan Bosco Rodríguez Alés\nDanzas gitanas\, J. Turina\nI. Zambra\nII. Sacromonte \nRodrigo Ávila Perales\nLa ciudad de las estrellas\, BSO La La Land \nLuna López Fernández\nPreludio y fuga en Si b M\, J. S. Bach\nConsolacion nº 3\, F. Liszt \nDaniel José Hidalgo Anaya\nNocturno en Re b M\, F. Chopin  \nSergio Guillén Jiménez\nClaro de Luna\, C. Debussy \nIsabel María Rodríguez Alés\nEstudio Op. 72 nº 2\, M. Moszkowski\nCórdoba\, I. Albeniz
URL:https://www.triarte.net/evento/2030-h-concierto-de-piano-2/
LOCATION:Sala de Conciertos de Triarte\, Calle Corregidor Antonio de Bobadilla\, 16\, Málaga\, 29006\, España
CATEGORIES:Concierto
ATTACH;FMTTYPE=image/png:https://www.triarte.net/wp-content/uploads/2018/02/9-2-2018-CONCIERTO-PIANO.png
END:VEVENT
END:VCALENDAR