BEGIN:VCALENDAR
VERSION:2.0
PRODID:-//Triarte - Centro de estudios art&iacute;sticos - Conservatorio y escuela de m&uacute;sica, danza y teatro. - ECPv6.15.18//NONSGML v1.0//EN
CALSCALE:GREGORIAN
METHOD:PUBLISH
X-WR-CALNAME:Triarte - Centro de estudios art&iacute;sticos - Conservatorio y escuela de m&uacute;sica, danza y teatro.
X-ORIGINAL-URL:https://www.triarte.net
X-WR-CALDESC:Eventos para Triarte - Centro de estudios art&iacute;sticos - Conservatorio y escuela de m&uacute;sica, danza y teatro.
REFRESH-INTERVAL;VALUE=DURATION:PT1H
X-Robots-Tag:noindex
X-PUBLISHED-TTL:PT1H
BEGIN:VTIMEZONE
TZID:Europe/Madrid
BEGIN:DAYLIGHT
TZOFFSETFROM:+0100
TZOFFSETTO:+0200
TZNAME:CEST
DTSTART:20160327T010000
END:DAYLIGHT
BEGIN:STANDARD
TZOFFSETFROM:+0200
TZOFFSETTO:+0100
TZNAME:CET
DTSTART:20161030T010000
END:STANDARD
BEGIN:DAYLIGHT
TZOFFSETFROM:+0100
TZOFFSETTO:+0200
TZNAME:CEST
DTSTART:20170326T010000
END:DAYLIGHT
BEGIN:STANDARD
TZOFFSETFROM:+0200
TZOFFSETTO:+0100
TZNAME:CET
DTSTART:20171029T010000
END:STANDARD
BEGIN:DAYLIGHT
TZOFFSETFROM:+0100
TZOFFSETTO:+0200
TZNAME:CEST
DTSTART:20180325T010000
END:DAYLIGHT
BEGIN:STANDARD
TZOFFSETFROM:+0200
TZOFFSETTO:+0100
TZNAME:CET
DTSTART:20181028T010000
END:STANDARD
END:VTIMEZONE
BEGIN:VEVENT
DTSTART;TZID=Europe/Madrid:20170519T203000
DTEND;TZID=Europe/Madrid:20170519T220000
DTSTAMP:20260421T200332
CREATED:20170512T192232Z
LAST-MODIFIED:20170512T192246Z
UID:3107-1495225800-1495231200@www.triarte.net
SUMMARY:20:30 h. Concierto de Guitarra: Alumnos de Manuel Pérez Vela.
DESCRIPTION:El viernes 19 de mayo a las 20:30h los alumnos del profesor Manuel Pérez Vela nos ofrecerán un maravilloso Concierto de Guitarra en nuestro centro. Todos los alumnos son alumnos que se encuentra cursando Enseñanzas Profesionales de Música en el Conservatorio Profesional Gonzalo Martín Tenllado. \nLa entrada al concierto será libre y gratuita hasta completar el aforo de nuestras Sala de Conciertos. \nEste será el programa que presentarán: \nVerónica Rodríguez Brome\nAdagio\, Manuel Díaz Cano\nEstudio VI\, Leo Brouwer \nLu Wang\nVals en Re\, Francisco Tárrega \nPaula Vargas Sedano\nCapricho nº 1\, Mateo Carcassi\nEstudio XI\, Leo Brouwer \nÚrsula Alejandra Ávila López\nGuárdame las vacas\, Luys de Narváez\nRegentropfen\, Bruno Swordikowsky \nIsabel Vázquez Arenal\nEstudio en Mi m\, Fernando Sor\nLa Gatica\, Antonio Lauro\nTorija\, Federico Moreno Torroba \nLola De Castro García\nPavana\, Francisco Tárrega\nLove walz\, Ulrik Neumann\nCapriccio\, Johan K. Mertz \nCristina López Romero\nPreludio nº 3\, Heitor Villalobos\nMarieta\, Francisco Tárrega\n“Rosita” (Polka)\, Francisco Tárrega \nCelia Vílchez López\nFantasía en Re m\, Sylvius Leopold Weiss\nVals venezolano nº 2\, Antonio Lauro\nEl Marabino\, Antonio Lauro \nCarlos Espejo Lucena\nTríptico\, Antonio Lauro\nArmida\nLa negra\nFlor granadina\, Ángel Barrios
URL:https://www.triarte.net/evento/2030-h-concierto-de-guitarra-alumnos-de-manuel-perez-vela/
LOCATION:Sala de Conciertos de Triarte\, Calle Corregidor Antonio de Bobadilla\, 16\, Málaga\, 29006\, España
CATEGORIES:Concierto
ATTACH;FMTTYPE=image/png:https://www.triarte.net/wp-content/uploads/2017/05/19-05-2017-CONCIERTO-GUITARRA-ALUMNOS-MANUEL.png
END:VEVENT
END:VCALENDAR