BEGIN:VCALENDAR
VERSION:2.0
PRODID:-//Triarte - Centro de estudios art&iacute;sticos - Conservatorio y escuela de m&uacute;sica, danza y teatro. - ECPv6.15.18//NONSGML v1.0//EN
CALSCALE:GREGORIAN
METHOD:PUBLISH
X-WR-CALNAME:Triarte - Centro de estudios art&iacute;sticos - Conservatorio y escuela de m&uacute;sica, danza y teatro.
X-ORIGINAL-URL:https://www.triarte.net
X-WR-CALDESC:Eventos para Triarte - Centro de estudios art&iacute;sticos - Conservatorio y escuela de m&uacute;sica, danza y teatro.
REFRESH-INTERVAL;VALUE=DURATION:PT1H
X-Robots-Tag:noindex
X-PUBLISHED-TTL:PT1H
BEGIN:VTIMEZONE
TZID:Europe/Madrid
BEGIN:DAYLIGHT
TZOFFSETFROM:+0100
TZOFFSETTO:+0200
TZNAME:CEST
DTSTART:20180325T010000
END:DAYLIGHT
BEGIN:STANDARD
TZOFFSETFROM:+0200
TZOFFSETTO:+0100
TZNAME:CET
DTSTART:20181028T010000
END:STANDARD
BEGIN:DAYLIGHT
TZOFFSETFROM:+0100
TZOFFSETTO:+0200
TZNAME:CEST
DTSTART:20190331T010000
END:DAYLIGHT
BEGIN:STANDARD
TZOFFSETFROM:+0200
TZOFFSETTO:+0100
TZNAME:CET
DTSTART:20191027T010000
END:STANDARD
BEGIN:DAYLIGHT
TZOFFSETFROM:+0100
TZOFFSETTO:+0200
TZNAME:CEST
DTSTART:20200329T010000
END:DAYLIGHT
BEGIN:STANDARD
TZOFFSETFROM:+0200
TZOFFSETTO:+0100
TZNAME:CET
DTSTART:20201025T010000
END:STANDARD
END:VTIMEZONE
BEGIN:VEVENT
DTSTART;TZID=Europe/Madrid:20191218T193000
DTEND;TZID=Europe/Madrid:20191218T213000
DTSTAMP:20260421T041034
CREATED:20191203T111952Z
LAST-MODIFIED:20191218T183832Z
UID:6348-1576697400-1576704600@www.triarte.net
SUMMARY:19:30 h: Concierto de Canto y Orquesta Juvenil
DESCRIPTION:En TRIARTE celebramos nuestro 15º Aniversario y\, como es tradición\, al final del primer trimestre nuestros alumnos participan en el Concierto de Navidad? para mejorar su formación. \nEl Miércoles 18 de Diciembre a las 19:30 h. los alumnos de Canto y Orquesta Juvenil de nuestras profesoras Isabel Cánovas y Fátima Fernández\, nos ofrecerán un concierto. La entrada será libre hasta completar el aforo de nuestra sala de conciertos. \n? Miércoles 18 de Diciembre a las 19:30 h\n? TRIARTE Centro de Estudios Artísticos\n? Evento gratuito \nPROGRAMA\nOrquesta Juvenil\nClarinete\nEnrique Martínez Arias \nViolines\nRebeca Del Pino Morte\nJulia María Rus Delgado\nMaría Victoria Vargas Fernández \nViolonchelos\nHugo Moya Marmolejo\nMatías Karlsson Cantador \nFlautas\nMiguel Reguera Domínguez\nEstrella Thao Molina Samper\nPaula Vázquez García\nIrene Pardo Molina\nPablo Lara Mendoza\nBerta Lisciotto Vallejo\nIsmael Clavero Aponte \nAway in a manger \,W. J. Kirkpatrick\nOver the Rainbow\, H. Arlen\nCanto: Gema Espinosa Valdivia\nNoche de paz\, F. X. Gruber \nAlumnos de Canto\nElia Sánchez Vallejo\nNo dudaría\, Antonio Flores \nPablo Sánchez Vallejo\nTu amante bandido\, Miguel Bosé \nJorge Luque Leiva\nUn beso y una flor\, Nino Bravo \nJorge Marco Moya\nMiénteme\, Luis Miguel \nLucía Mora Carnero\nEstoy aquí\, Shakira \nLucía Lara Mendoza\nCreep\, Radiohead \nLaura García Márquez\nCuando los sapos bailen flamenco\, Ella baila sola \nGema Espinosa Valdivia\nHijo de la Luna\, Mecano  \nAndrea Riera Barranco\nEn el punto de partida\, Rocío Jurado \nLucía Mora Carnero\nJorge Marco Moya\nMis deseos\, Michael Bublé y Thalía
URL:https://www.triarte.net/evento/2015-h-concierto-de-canto-y-orquesta-juvenil/
LOCATION:Sala de Conciertos de Triarte\, Calle Corregidor Antonio de Bobadilla\, 16\, Málaga\, 29006\, España
CATEGORIES:Concierto
ATTACH;FMTTYPE=image/png:https://www.triarte.net/wp-content/uploads/2019/12/Concierto-de-Canto-y-Orquesta-Juvenil-Triarte-Málaga-Navidad-2019-scaled.png
END:VEVENT
END:VCALENDAR