BEGIN:VCALENDAR
VERSION:2.0
PRODID:-//Triarte - Centro de estudios art&iacute;sticos - Conservatorio y escuela de m&uacute;sica, danza y teatro. - ECPv6.15.18//NONSGML v1.0//EN
CALSCALE:GREGORIAN
METHOD:PUBLISH
X-WR-CALNAME:Triarte - Centro de estudios art&iacute;sticos - Conservatorio y escuela de m&uacute;sica, danza y teatro.
X-ORIGINAL-URL:https://www.triarte.net
X-WR-CALDESC:Eventos para Triarte - Centro de estudios art&iacute;sticos - Conservatorio y escuela de m&uacute;sica, danza y teatro.
REFRESH-INTERVAL;VALUE=DURATION:PT1H
X-Robots-Tag:noindex
X-PUBLISHED-TTL:PT1H
BEGIN:VTIMEZONE
TZID:Europe/Madrid
BEGIN:DAYLIGHT
TZOFFSETFROM:+0100
TZOFFSETTO:+0200
TZNAME:CEST
DTSTART:20170326T010000
END:DAYLIGHT
BEGIN:STANDARD
TZOFFSETFROM:+0200
TZOFFSETTO:+0100
TZNAME:CET
DTSTART:20171029T010000
END:STANDARD
BEGIN:DAYLIGHT
TZOFFSETFROM:+0100
TZOFFSETTO:+0200
TZNAME:CEST
DTSTART:20180325T010000
END:DAYLIGHT
BEGIN:STANDARD
TZOFFSETFROM:+0200
TZOFFSETTO:+0100
TZNAME:CET
DTSTART:20181028T010000
END:STANDARD
BEGIN:DAYLIGHT
TZOFFSETFROM:+0100
TZOFFSETTO:+0200
TZNAME:CEST
DTSTART:20190331T010000
END:DAYLIGHT
BEGIN:STANDARD
TZOFFSETFROM:+0200
TZOFFSETTO:+0100
TZNAME:CET
DTSTART:20191027T010000
END:STANDARD
END:VTIMEZONE
BEGIN:VEVENT
DTSTART;TZID=Europe/Madrid:20181219T200000
DTEND;TZID=Europe/Madrid:20181219T204000
DTSTAMP:20260423T145853
CREATED:20181202T181814Z
LAST-MODIFIED:20181212T193447Z
UID:5249-1545249600-1545252000@www.triarte.net
SUMMARY:20:00 h. Tarde de Teatro: Taller de Teatro Adulto.
DESCRIPTION:Como es tradición\, en Triarte celebramos el final del primer trimestre con diversas Actuaciones. En esta ocasión\, nuestros alumnos de Taller de Teatro Adulto nos enseñan la cara amable de la Navidad con una actuación teatral. \nEl miércoles 19 de diciembre a las 20:00 h\, los alumnos de Teatro de Jesús López “Kiu” interpretarán la obra: “Las cuatro estaciones” de Rafael Mendizabal. \nEntrada libre hasta completar aforo de la sala de conciertos. \nSinopsis:\nRosa y Juanjo\, una pareja y su relación a través del tiempo. Juanjo y su madre\, Rosa y su madre. Tres momentos en sus vidas Y un final sorprendente. \nReparto:\nROSA: Ana De los Santos Jiménez. Cristina Martín Pariente. Gabriela Martín Sánchez. \nJUANJO: Emilio Núñez Guerrero
URL:https://www.triarte.net/evento/2000-h-tarde-de-teatro-taller-de-teatro-adulto/
LOCATION:Sala de Conciertos de Triarte\, Calle Corregidor Antonio de Bobadilla\, 16\, Málaga\, 29006\, España
ATTACH;FMTTYPE=image/jpeg:https://www.triarte.net/wp-content/uploads/2018/12/redes-sociales-19-12-2018-TARDE-DE-TEATRO-20_00h.jpg
END:VEVENT
END:VCALENDAR