BEGIN:VCALENDAR
VERSION:2.0
PRODID:-//Triarte - Centro de estudios art&iacute;sticos - Conservatorio y escuela de m&uacute;sica, danza y teatro. - ECPv6.15.18//NONSGML v1.0//EN
CALSCALE:GREGORIAN
METHOD:PUBLISH
X-WR-CALNAME:Triarte - Centro de estudios art&iacute;sticos - Conservatorio y escuela de m&uacute;sica, danza y teatro.
X-ORIGINAL-URL:https://www.triarte.net
X-WR-CALDESC:Eventos para Triarte - Centro de estudios art&iacute;sticos - Conservatorio y escuela de m&uacute;sica, danza y teatro.
REFRESH-INTERVAL;VALUE=DURATION:PT1H
X-Robots-Tag:noindex
X-PUBLISHED-TTL:PT1H
BEGIN:VTIMEZONE
TZID:Europe/Madrid
BEGIN:DAYLIGHT
TZOFFSETFROM:+0100
TZOFFSETTO:+0200
TZNAME:CEST
DTSTART:20150329T010000
END:DAYLIGHT
BEGIN:STANDARD
TZOFFSETFROM:+0200
TZOFFSETTO:+0100
TZNAME:CET
DTSTART:20151025T010000
END:STANDARD
BEGIN:DAYLIGHT
TZOFFSETFROM:+0100
TZOFFSETTO:+0200
TZNAME:CEST
DTSTART:20160327T010000
END:DAYLIGHT
BEGIN:STANDARD
TZOFFSETFROM:+0200
TZOFFSETTO:+0100
TZNAME:CET
DTSTART:20161030T010000
END:STANDARD
BEGIN:DAYLIGHT
TZOFFSETFROM:+0100
TZOFFSETTO:+0200
TZNAME:CEST
DTSTART:20170326T010000
END:DAYLIGHT
BEGIN:STANDARD
TZOFFSETFROM:+0200
TZOFFSETTO:+0100
TZNAME:CET
DTSTART:20171029T010000
END:STANDARD
END:VTIMEZONE
BEGIN:VEVENT
DTSTART;TZID=Europe/Madrid:20160625T190000
DTEND;TZID=Europe/Madrid:20160625T210000
DTSTAMP:20260420T103453
CREATED:20160616T094539Z
LAST-MODIFIED:20160625T083741Z
UID:1765-1466881200-1466888400@www.triarte.net
SUMMARY:19:30h. Concierto Fin de Curso. Conservatorio Superior de Málaga.
DESCRIPTION:El sábado 25 de junio de 2016 a las 19:30h\, TRIARTE – Centro de Estudios Artísticos celebrará el concierto con motivo de la clausura del Curso Académico 2015 – 2016. \nEl el mismo actuarán la Orquesta de Flautas (Directora\, C. Beatriz Puche)\, el Coro Juvenil (Directora\, Rosario Hidalgo)\, el Cuarteto de Guitarras (Director\, Pedro Reina)\, la Orquesta de Cámara (Directora\, Rosario Hidalgo) y la Orquesta Sinfónica (Directora\, Evelyn Martínez). \nEl espectáculo tendrá lugar en la Sala Falla del Conservatorio Superior de Málaga. \nLa entradas se encuentran a la venta en la administración de nuestro centro. \nPROGRAMA\nOrquesta de Flautas\, Directora\, C. Beatriz Puche \nPiratas del Caribe\, H. Zimmer\nRondó para dos flautas y orquesta Op.25 \, F. Doppler\nSolistas: Blanca Salgado Fuentes\n María Leiva Sepúlveda\nHornpipe\, Tradicional Irlandesa\nPianista: Miguel Ángel Vera Sánchez \nCoro Juvenil\, Directora\, Rosario Hidalgo \nMakumaná. Canon a 4. J. Debón\nTsena Tsena. A 3 v.i. Popular Israel\nSiyahamba. A 3 v.i. Popular zulú\nAkai hana\, shiroi hana. A 2 v.i. Popular Japón. Arr. J. Domínguez\nTutira mai. A 2 v.i. Popular Maorí. Arr. A. Ritchie\nOjos traidores. A 3 v.i. Popular Andalucía. Arr. R. Rodríguez \nCuarteto de Guitarra\, Director\, Pedro Reina \nTres canciones populares sudamericanas\nCançao\, Brasil \nFaz hoje un ano\, Brasil\nEl cachimbo\, Chile\nJoropo\, A. Forrest\nEl gato montés\, M. Penella \nOrquesta de Cámara\, Directora\, Rosario Hidalgo \nConcierto nº 2 en Do M para 2 flautas\, cuerdas y bajo continuo RV 533. A. Vivaldi\nSolistas: María Leiva Sepúlveda\, Blanca Salgado Fuentes\nI Allegro\nII Largo\nIII Vivace\nConcierto en La m BWV 1041 para violín\, cuerda y bajo continuo\, J. S. Bach\nSolista: Sofía Eugenia Evtimova Georgieva\nI Allegro\nÁlbum de la juventud Op. 39 P. I. Tchaikovsky. Arreglo para Orquesta de Cuerdas\nCanción de la mañana\nVieja tonada francesa\nMarcha de los soldados jóvenes\nMañana de invierno\nEl funeral de la muñeca\nDulce ensueño \nOrquesta Sinfónica\, Directora\, Evelyn Martínez \nIn the mood for love\, S. Umebayashi\nSolistas: Celia Salgado Fuentes\, violín\n Ana Molina Muñoz\, violonchelo\nPequeña serenata nocturna\, W. A. Mozart\nSevilla\, I. Albéniz\nCon la Orquesta de Flautas\nLa máquina de escribir\, L. Anderson\nCon la Orquesta de Flautas\nSinfonía nº 40 in G minor K. 550\, W. A. Mozart\nI Allegro molto
URL:https://www.triarte.net/evento/1930h-concierto-fin-de-curso-conservatorio-superior-de-malaga/
LOCATION:Conservatorio Superior de Málaga\, Plaza del Maestro Artola\, 2\, Málaga\, Málaga\, 29013\, España
CATEGORIES:Concierto
ATTACH;FMTTYPE=image/png:https://www.triarte.net/wp-content/uploads/2016/06/25-6-2016-CONCIERTO-DE-fin-de-curso.png
END:VEVENT
END:VCALENDAR