BEGIN:VCALENDAR
VERSION:2.0
PRODID:-//Triarte - Centro de estudios art&iacute;sticos - Conservatorio y escuela de m&uacute;sica, danza y teatro. - ECPv6.15.18//NONSGML v1.0//EN
CALSCALE:GREGORIAN
METHOD:PUBLISH
X-WR-CALNAME:Triarte - Centro de estudios art&iacute;sticos - Conservatorio y escuela de m&uacute;sica, danza y teatro.
X-ORIGINAL-URL:https://www.triarte.net
X-WR-CALDESC:Eventos para Triarte - Centro de estudios art&iacute;sticos - Conservatorio y escuela de m&uacute;sica, danza y teatro.
REFRESH-INTERVAL;VALUE=DURATION:PT1H
X-Robots-Tag:noindex
X-PUBLISHED-TTL:PT1H
BEGIN:VTIMEZONE
TZID:Europe/Madrid
BEGIN:DAYLIGHT
TZOFFSETFROM:+0100
TZOFFSETTO:+0200
TZNAME:CEST
DTSTART:20220327T010000
END:DAYLIGHT
BEGIN:STANDARD
TZOFFSETFROM:+0200
TZOFFSETTO:+0100
TZNAME:CET
DTSTART:20221030T010000
END:STANDARD
BEGIN:DAYLIGHT
TZOFFSETFROM:+0100
TZOFFSETTO:+0200
TZNAME:CEST
DTSTART:20230326T010000
END:DAYLIGHT
BEGIN:STANDARD
TZOFFSETFROM:+0200
TZOFFSETTO:+0100
TZNAME:CET
DTSTART:20231029T010000
END:STANDARD
BEGIN:DAYLIGHT
TZOFFSETFROM:+0100
TZOFFSETTO:+0200
TZNAME:CEST
DTSTART:20240331T010000
END:DAYLIGHT
BEGIN:STANDARD
TZOFFSETFROM:+0200
TZOFFSETTO:+0100
TZNAME:CET
DTSTART:20241027T010000
END:STANDARD
END:VTIMEZONE
BEGIN:VEVENT
DTSTART;TZID=Europe/Madrid:20231212T193000
DTEND;TZID=Europe/Madrid:20231212T213000
DTSTAMP:20260422T222830
CREATED:20231129T114752Z
LAST-MODIFIED:20231211T200504Z
UID:9525-1702409400-1702416600@www.triarte.net
SUMMARY:19:30 h | Concierto de Piano. Alumnos de Carmen Vidal y Lucía Muñoz
DESCRIPTION:Como es tradición\, al final del primer trimestre nuestros alumnos participan en el Concierto de Navidad? para mejorar su formación. \nEl martes 12 de Diciembre a las 19:30 h. los alumnos de Piano de nuestras profesoras Carmen Vidal y Lucía Muñoz nos ofrecerán el siguiente concierto. \nLa entrada será libre hasta completar el aforo de nuestra sala de conciertos. \nPrograma\nAinhoa Rodríguez Reyes\nEnsueño\, Ch. Hervé\nJingle bells\, villancico \nMartina Flores Broncano\nEl globo\, J. Bastien\nEl carrusel\, J. Bastien \nJuan Manuel Bermúdez Arias\nMi caballito\, J. Bastien\nYanki Dudel\, J.Bastien \nFernando Parra Pérez\nDulce Navidad\, villancico \nAdriana Vivas García\nAlegre San Nicolás\, J. Bastien \nMarta Corrales López-Quiñones\nRodolfo el Reno\, villancico \nInés Parra Pérez\nJingle Bells Rock\, villancico \nEdgar Zhan\nArlequín\, Hervé y Pouillard\nLindo mes de mayo\, Hervé y Pouillard \nSofía Ponce Rizo\nGavotte\, J. Bastien \nAna del Río Castro\nLlega la Navidad\, J. Bastien\nLast Christmas\, G. Michael \nMalena Lanzas Delgado\nCampanita\, J. Bastien\nEl indio Juan\, J.Bastien \nJulia Marcos Garratón\nAll I want for Christmas is you\, M. Carey \nMaría Sierra Prieto\nHoe down\, J. Bastien \nLucía Acuña Höhle\nCandor\, J. F. F. Burgmuller \nYixi – Luna Lin\nEstudio nº 19\, C. Czerny \nHao Zheng\nArabesco\, J. F. F. Burgmuller \nNicolás Berniell Tuda\nInterestelar\, H. Zimmer \nNicolás Berniell Tuda\nHugo Macías Vallejo\, violochelo\nManuel de los Santos Vázquez\, viola\nBibidi Babidi bu\, A. Hoffman \nCarmen Garrido Montes\nSonatina Op 36 nº 4\, M. Clementi \nElia Sánchez Vallejo\nInvención nº 8\, J. S. Bach \nHéctor Caballero Romero\nSonatina Op. 49 nº 2\, L. van Beethoven \nRaquel López Espínola\nSonata Op. 27 nº 2\, L. van Beethoven
URL:https://www.triarte.net/evento/1930-h-concierto-de-piano-alumnos-de-carmen-vidal-y-lucia-munoz/
LOCATION:Sala de Conciertos de Triarte\, Calle Corregidor Antonio de Bobadilla\, 16\, Málaga\, 29006\, España
CATEGORIES:Concierto
ATTACH;FMTTYPE=image/png:https://www.triarte.net/wp-content/uploads/2023/11/web-12-12-2023-CONCIERTO-DE-PIANO.png
END:VEVENT
END:VCALENDAR