BEGIN:VCALENDAR
VERSION:2.0
PRODID:-//Triarte - Centro de estudios art&iacute;sticos - Conservatorio y escuela de m&uacute;sica, danza y teatro. - ECPv6.15.18//NONSGML v1.0//EN
CALSCALE:GREGORIAN
METHOD:PUBLISH
X-WR-CALNAME:Triarte - Centro de estudios art&iacute;sticos - Conservatorio y escuela de m&uacute;sica, danza y teatro.
X-ORIGINAL-URL:https://www.triarte.net
X-WR-CALDESC:Eventos para Triarte - Centro de estudios art&iacute;sticos - Conservatorio y escuela de m&uacute;sica, danza y teatro.
REFRESH-INTERVAL;VALUE=DURATION:PT1H
X-Robots-Tag:noindex
X-PUBLISHED-TTL:PT1H
BEGIN:VTIMEZONE
TZID:Europe/Madrid
BEGIN:DAYLIGHT
TZOFFSETFROM:+0100
TZOFFSETTO:+0200
TZNAME:CEST
DTSTART:20200329T010000
END:DAYLIGHT
BEGIN:STANDARD
TZOFFSETFROM:+0200
TZOFFSETTO:+0100
TZNAME:CET
DTSTART:20201025T010000
END:STANDARD
BEGIN:DAYLIGHT
TZOFFSETFROM:+0100
TZOFFSETTO:+0200
TZNAME:CEST
DTSTART:20210328T010000
END:DAYLIGHT
BEGIN:STANDARD
TZOFFSETFROM:+0200
TZOFFSETTO:+0100
TZNAME:CET
DTSTART:20211031T010000
END:STANDARD
BEGIN:DAYLIGHT
TZOFFSETFROM:+0100
TZOFFSETTO:+0200
TZNAME:CEST
DTSTART:20220327T010000
END:DAYLIGHT
BEGIN:STANDARD
TZOFFSETFROM:+0200
TZOFFSETTO:+0100
TZNAME:CET
DTSTART:20221030T010000
END:STANDARD
END:VTIMEZONE
BEGIN:VEVENT
DTSTART;TZID=Europe/Madrid:20210624T190000
DTEND;TZID=Europe/Madrid:20210624T200000
DTSTAMP:20260422T225120
CREATED:20210610T151827Z
LAST-MODIFIED:20210615T090125Z
UID:7227-1624561200-1624564800@www.triarte.net
SUMMARY:19:00h: “DUELO DE NOVIAS” A cargo de los Alumnos de Taller de Teatro Juvenil
DESCRIPTION:Obra:\n“DUELO DE NOVIAS” de Damián Esteban Centurión \nObra interpretada por los Alumnos de Taller de Teatro Infantil.Dirección: Jesús López. \nSinopsis:\nUn grupo de amigas de la infancia viven juntas. Llevan una vida relativamente común para tres estudiantes universitarias\, entres sus amistades\, estudios y trabajo. Pero esta vida de rutina va a dar un giro inesperado cuando una de ellas traiga a su pareja para presentarlo a sus amigas\, convirtiendo lo que sería una tarde tranquila de amigas\, en un terrible Duelo de Novias. \nActores: (Por orden de aparición)\nFiorella: MARÍA MARGOT MARTÍNEZ PEIDRO\nDiana: ADRIANA GONZÁLEZ ARAGÓN\nPilar: MARTA RUBIA SÁNCHEZ\nGonzalo: ALEJANDRO CORNEJO ZAMBRANA\nHernán: ALEXANDRA ROSAS PLAZA\nSebastián: BLANCA CARRILLO DRAPER \nLugar y Fecha:\nLa Caja Blanca. Área de Juventud.Av. del Editor Ángel Caffarena\, 8\, MálagaJueves 24 de junio de 2021\, 19:00 h
URL:https://www.triarte.net/evento/1900h-duelo-de-novias-a-cargo-de-los-alumnos-de-taller-de-teatro-juvenil/
LOCATION:La Caja Blanca\, Av. del Editor Ángel Caffarena\, 8\, Málaga\, MA\, 29010
CATEGORIES:Teatro
ATTACH;FMTTYPE=image/png:https://www.triarte.net/wp-content/uploads/2021/06/24-06-2021-DUELO-DE-NOVIAS.png
END:VEVENT
END:VCALENDAR