BEGIN:VCALENDAR
VERSION:2.0
PRODID:-//Triarte - Centro de estudios art&iacute;sticos - Conservatorio y escuela de m&uacute;sica, danza y teatro. - ECPv6.15.18//NONSGML v1.0//EN
CALSCALE:GREGORIAN
METHOD:PUBLISH
X-WR-CALNAME:Triarte - Centro de estudios art&iacute;sticos - Conservatorio y escuela de m&uacute;sica, danza y teatro.
X-ORIGINAL-URL:https://www.triarte.net
X-WR-CALDESC:Eventos para Triarte - Centro de estudios art&iacute;sticos - Conservatorio y escuela de m&uacute;sica, danza y teatro.
REFRESH-INTERVAL;VALUE=DURATION:PT1H
X-Robots-Tag:noindex
X-PUBLISHED-TTL:PT1H
BEGIN:VTIMEZONE
TZID:Europe/Madrid
BEGIN:DAYLIGHT
TZOFFSETFROM:+0100
TZOFFSETTO:+0200
TZNAME:CEST
DTSTART:20160327T010000
END:DAYLIGHT
BEGIN:STANDARD
TZOFFSETFROM:+0200
TZOFFSETTO:+0100
TZNAME:CET
DTSTART:20161030T010000
END:STANDARD
BEGIN:DAYLIGHT
TZOFFSETFROM:+0100
TZOFFSETTO:+0200
TZNAME:CEST
DTSTART:20170326T010000
END:DAYLIGHT
BEGIN:STANDARD
TZOFFSETFROM:+0200
TZOFFSETTO:+0100
TZNAME:CET
DTSTART:20171029T010000
END:STANDARD
BEGIN:DAYLIGHT
TZOFFSETFROM:+0100
TZOFFSETTO:+0200
TZNAME:CEST
DTSTART:20180325T010000
END:DAYLIGHT
BEGIN:STANDARD
TZOFFSETFROM:+0200
TZOFFSETTO:+0100
TZNAME:CET
DTSTART:20181028T010000
END:STANDARD
END:VTIMEZONE
BEGIN:VEVENT
DTSTART;TZID=Europe/Madrid:20170624T180000
DTEND;TZID=Europe/Madrid:20170624T193000
DTSTAMP:20260422T022529
CREATED:20170530T143316Z
LAST-MODIFIED:20170621T175345Z
UID:3192-1498327200-1498332600@www.triarte.net
SUMMARY:18:00 h. Concierto de Piano.
DESCRIPTION:El sábado 24 de junio de 2017 a las 18:00 h\, los alumnos de Piano de nuestra profesora Siliana Zdravkova nos ofrecerán un concierto. \nLa entrada será libre hasta completar aforo. \nPROGRAMA \nJulia Carrero de Luis\nAntigua canción francesa\, P. I. Tchaikovsky \nAlexis Ortiz Espinosa\nSiciliana\, R. Schumann \nYujie Yuan\nLas ranas saltarinas\, J. Bastien \nVictoria Alexandrova de Miguel\nLas nubes\nEl carnaval\, J. Bastien \nÁlvaro Ruiz Rivero\nEl indio Juan\nBlues de media noche \nEmma García Rincón\nEstudio en Do M\, C. Cherny \nNicolás Pérez Martín\nVals del ballet La bella durmiente\, P. I. Tchaikovsky \nIrene Ambrosio Luque\nScherzo\, I. Mosheles \nGermán Ruiz Ramírez\nEstudio\, Nikolaev\nEl jardín\, S. Maikapar \nJimena Labajos Lázaro\nSonatina Op. 36 nº 1\, M.Clementi\nMov. I: Allegro \nGuillermo Lorenzo Romero\nScherzo\, I. Mosheles \nSofía López Ruiz\nSonata nº 10\, J. Haydn \nLara Soria Marczuk\nSonatina nº 5\, F. Kuhlau\nMov. II: Allegro \nIsabel María Ambrosio Luque\nSonatina Op. 36 nº 3\, M. Clementi
URL:https://www.triarte.net/evento/1800-h-concierto-de-piano/
LOCATION:Sala de Conciertos de Triarte\, Calle Corregidor Antonio de Bobadilla\, 16\, Málaga\, 29006\, España
CATEGORIES:Concierto
ATTACH;FMTTYPE=image/png:https://www.triarte.net/wp-content/uploads/2017/05/24-06-17-CONCIERTO-DE-PIANO-18_00h-1.png
END:VEVENT
END:VCALENDAR