BEGIN:VCALENDAR
VERSION:2.0
PRODID:-//Triarte - Centro de estudios art&iacute;sticos - Conservatorio y escuela de m&uacute;sica, danza y teatro. - ECPv6.15.18//NONSGML v1.0//EN
CALSCALE:GREGORIAN
METHOD:PUBLISH
X-WR-CALNAME:Triarte - Centro de estudios art&iacute;sticos - Conservatorio y escuela de m&uacute;sica, danza y teatro.
X-ORIGINAL-URL:https://www.triarte.net
X-WR-CALDESC:Eventos para Triarte - Centro de estudios art&iacute;sticos - Conservatorio y escuela de m&uacute;sica, danza y teatro.
REFRESH-INTERVAL;VALUE=DURATION:PT1H
X-Robots-Tag:noindex
X-PUBLISHED-TTL:PT1H
BEGIN:VTIMEZONE
TZID:Europe/Madrid
BEGIN:DAYLIGHT
TZOFFSETFROM:+0100
TZOFFSETTO:+0200
TZNAME:CEST
DTSTART:20170326T010000
END:DAYLIGHT
BEGIN:STANDARD
TZOFFSETFROM:+0200
TZOFFSETTO:+0100
TZNAME:CET
DTSTART:20171029T010000
END:STANDARD
BEGIN:DAYLIGHT
TZOFFSETFROM:+0100
TZOFFSETTO:+0200
TZNAME:CEST
DTSTART:20180325T010000
END:DAYLIGHT
BEGIN:STANDARD
TZOFFSETFROM:+0200
TZOFFSETTO:+0100
TZNAME:CET
DTSTART:20181028T010000
END:STANDARD
BEGIN:DAYLIGHT
TZOFFSETFROM:+0100
TZOFFSETTO:+0200
TZNAME:CEST
DTSTART:20190331T010000
END:DAYLIGHT
BEGIN:STANDARD
TZOFFSETFROM:+0200
TZOFFSETTO:+0100
TZNAME:CET
DTSTART:20191027T010000
END:STANDARD
END:VTIMEZONE
BEGIN:VEVENT
DTSTART;TZID=Europe/Madrid:20180629T180000
DTEND;TZID=Europe/Madrid:20180629T183000
DTSTAMP:20260422T112719
CREATED:20180607T182656Z
LAST-MODIFIED:20180626T154356Z
UID:4707-1530295200-1530297000@www.triarte.net
SUMMARY:18:00 h. Concierto de Guitarra. Alumnos de Pedro Reina.
DESCRIPTION:El viernes 29 de junio a las 18:00 h. los alumnos de guitarra de nuestro profesor Pedro Reina nos ofrecerán un concierto. \nEntrada libre hasta completar aforo. \nPROGRAMA\nAna Borrego Ortiz\nLos gatitos\, popular\nEl canto del cuco\, popular \nMiguel Ángel Florido Monedero\nFrère Jaques (dúo)\, popular\nBurlesca\, popular \nDavid Garrido Blasco\nValses 1 y 2 (dúo)\, S. Eythorsson\nRatón que te pilla el gato\, popular \nAngelo Alesi Jiménez\nLondon bridge (dúo)\, popular\nMary had a little lamb\, popular \nÁlvaro Ruiz Rivero\nA mis abuelos (dúo)\, S. Eythorsson\nQuinto levanta\, popular \nÁlvaro Guerrero García\nAndantino (dúo)\, M. Carcassi\nEstudio nº 15\, S. Eythorsson \nPablo González Aranda\nUn claro de luna (dúo)\, popular\nOn skies\, E. Thorlaksson \nAlba Martos Peinado\nTanto vestido blanco (dúo)\, popular\nEjercicio\, E. Thorlaksson \nLaura Chamizo Perea\nRecuérdame (dúo)\, K. Anderson-López y R. López\nBajo el mar\, A. Menken\nAsturias (fragmento)\, I. Albéniz \nAna Pérez Velasco\nHelado de chocolate (dúo)\, S. Eythorsson\nMalagueña\, popular \nGabriel Uroz Rojas\nLección 1 Op. 60\, F. Sor\nVals (dúo)\, J. Küffner\nWe are the champions\, Queen \nZhengqi Samuel Zhu Liu\nMirando a las nubes (dúo)\, S. Eythorsson\nOda a la alegría\, L. van Beethoven \nHugo Cobos Gómez\nEstudio abierto\, L. Sanz\nInés\, Inés\, popular \nAlberto Rodríguez Sánchez\nMinueto\, D. Aguado\nVals\, M. Carcassi \nDaniel Luque Quirós\nBranle de poitou\, A. Le Roy\nSound picture 11\, C. Domeniconi\nEstudio simple V\, L. Brouwe
URL:https://www.triarte.net/evento/1800-h-concierto-de-guitarra-alumnos-de-pedro-reina-2/
LOCATION:Sala de Conciertos de Triarte\, Calle Corregidor Antonio de Bobadilla\, 16\, Málaga\, 29006\, España
CATEGORIES:Concierto
ATTACH;FMTTYPE=image/png:https://www.triarte.net/wp-content/uploads/2018/06/29-06-2018-CONCIERTO-GUITARRA.png
END:VEVENT
END:VCALENDAR