BEGIN:VCALENDAR
VERSION:2.0
PRODID:-//Triarte - Centro de estudios art&iacute;sticos - Conservatorio y escuela de m&uacute;sica, danza y teatro. - ECPv6.15.18//NONSGML v1.0//EN
CALSCALE:GREGORIAN
METHOD:PUBLISH
X-WR-CALNAME:Triarte - Centro de estudios art&iacute;sticos - Conservatorio y escuela de m&uacute;sica, danza y teatro.
X-ORIGINAL-URL:https://www.triarte.net
X-WR-CALDESC:Eventos para Triarte - Centro de estudios art&iacute;sticos - Conservatorio y escuela de m&uacute;sica, danza y teatro.
REFRESH-INTERVAL;VALUE=DURATION:PT1H
X-Robots-Tag:noindex
X-PUBLISHED-TTL:PT1H
BEGIN:VTIMEZONE
TZID:Europe/Madrid
BEGIN:DAYLIGHT
TZOFFSETFROM:+0100
TZOFFSETTO:+0200
TZNAME:CEST
DTSTART:20220327T010000
END:DAYLIGHT
BEGIN:STANDARD
TZOFFSETFROM:+0200
TZOFFSETTO:+0100
TZNAME:CET
DTSTART:20221030T010000
END:STANDARD
BEGIN:DAYLIGHT
TZOFFSETFROM:+0100
TZOFFSETTO:+0200
TZNAME:CEST
DTSTART:20230326T010000
END:DAYLIGHT
BEGIN:STANDARD
TZOFFSETFROM:+0200
TZOFFSETTO:+0100
TZNAME:CET
DTSTART:20231029T010000
END:STANDARD
BEGIN:DAYLIGHT
TZOFFSETFROM:+0100
TZOFFSETTO:+0200
TZNAME:CEST
DTSTART:20240331T010000
END:DAYLIGHT
BEGIN:STANDARD
TZOFFSETFROM:+0200
TZOFFSETTO:+0100
TZNAME:CET
DTSTART:20241027T010000
END:STANDARD
END:VTIMEZONE
BEGIN:VEVENT
DTSTART;TZID=Europe/Madrid:20230124T180000
DTEND;TZID=Europe/Madrid:20230124T193000
DTSTAMP:20260422T151430
CREATED:20230119T200935Z
LAST-MODIFIED:20230120T181058Z
UID:8747-1674583200-1674588600@www.triarte.net
SUMMARY:18:00 h | Concierto de Flauta – Alumnos de Aurora Pérez
DESCRIPTION:Dentro de las actividades programadas por TRIARTE\, está el realizar conciertos con los alumnos para mejorar su formación musical. \nEl martes 24 de enero a las 18:00 h los alumnos de flauta de nuestra profesora Aurora Pérez nos ofrecerán un concierto. La entrada será libre hasta completar el aforo de nuestra sala de conciertos. \nPrograma\nBeatriz Corpas Garcerán\nEva-Yiran Xu\nPieza de concierto Op. 10 en Re M\, J. Klengel \nPablo Lara Mendoza\nFantasía n° 6 en Re m\, G. P. Telemann\nI. Dolce\nII. Allegro\nIII. Spirituoso \nEva-Yiran Xu\nBalada en Re m\, C. Reinecke \nMario Fernández Gil\nConcierto en Sol M\, C. Stamitz\nI. Allegro \nGracia Teresa Serón García\nFantasía pastoral húngara\, F. Doppler \nLucía Maldonado Montiel\nSonata en La m\, C. P. E. Bach\nII. Allegro\nIII. Allegro \nLucía Lara Mendoza\nSonata en Mi M\, J. S. Bach\nI. Adagio ma non tanto\nII. Allegro \nRodrigo Fernández Serrano\nCantabile y presto\, G. Enesco
URL:https://www.triarte.net/evento/1800-h-concierto-de-flauta-alumnos-de-aurora-perez/
LOCATION:Sala de Conciertos de Triarte\, Calle Corregidor Antonio de Bobadilla\, 16\, Málaga\, 29006\, España
CATEGORIES:Concierto
ATTACH;FMTTYPE=image/png:https://www.triarte.net/wp-content/uploads/2023/01/WEB-2.png
END:VEVENT
END:VCALENDAR