BEGIN:VCALENDAR
VERSION:2.0
PRODID:-//Triarte - Centro de estudios art&iacute;sticos - Conservatorio y escuela de m&uacute;sica, danza y teatro. - ECPv6.15.18//NONSGML v1.0//EN
CALSCALE:GREGORIAN
METHOD:PUBLISH
X-WR-CALNAME:Triarte - Centro de estudios art&iacute;sticos - Conservatorio y escuela de m&uacute;sica, danza y teatro.
X-ORIGINAL-URL:https://www.triarte.net
X-WR-CALDESC:Eventos para Triarte - Centro de estudios art&iacute;sticos - Conservatorio y escuela de m&uacute;sica, danza y teatro.
REFRESH-INTERVAL;VALUE=DURATION:PT1H
X-Robots-Tag:noindex
X-PUBLISHED-TTL:PT1H
BEGIN:VTIMEZONE
TZID:Europe/Madrid
BEGIN:DAYLIGHT
TZOFFSETFROM:+0100
TZOFFSETTO:+0200
TZNAME:CEST
DTSTART:20160327T010000
END:DAYLIGHT
BEGIN:STANDARD
TZOFFSETFROM:+0200
TZOFFSETTO:+0100
TZNAME:CET
DTSTART:20161030T010000
END:STANDARD
BEGIN:DAYLIGHT
TZOFFSETFROM:+0100
TZOFFSETTO:+0200
TZNAME:CEST
DTSTART:20170326T010000
END:DAYLIGHT
BEGIN:STANDARD
TZOFFSETFROM:+0200
TZOFFSETTO:+0100
TZNAME:CET
DTSTART:20171029T010000
END:STANDARD
BEGIN:DAYLIGHT
TZOFFSETFROM:+0100
TZOFFSETTO:+0200
TZNAME:CEST
DTSTART:20180325T010000
END:DAYLIGHT
BEGIN:STANDARD
TZOFFSETFROM:+0200
TZOFFSETTO:+0100
TZNAME:CET
DTSTART:20181028T010000
END:STANDARD
END:VTIMEZONE
BEGIN:VEVENT
DTSTART;TZID=Europe/Madrid:20171211T173000
DTEND;TZID=Europe/Madrid:20171211T190000
DTSTAMP:20260422T104519
CREATED:20171123T184350Z
LAST-MODIFIED:20171207T190230Z
UID:3714-1513013400-1513018800@www.triarte.net
SUMMARY:17:30h. Concierto de Violín y Viola: Alumnos de Fátima Fernández.
DESCRIPTION:El lunes 11 de diciembre a las 17:30h los alumnos de violín y viola de nuestra profesora Fátima Fernández nos ofrecerán un concierto. \n\nPROGRAMA \nLaura González Rodríguez\nRemando suavemente\, S. Suzuki\nPianista: Siliana Zdravkova \nJuan Rafael Alarcón Saura\nMinueto nº 3\, J. S. Bach\nPianista: Siliana Zdravkova \nÁlvaro López Narváez\nEn vuelo\n¡Despegamos!\, K. y D. Blackwell \nBruno Gómez da Silva\nCopia del gato\nBailarín de claqué\, K. y D. Blackwell \nAlonso Fernández Fernández\nLa canción de Clara\, K. y D. Blackwell\nEl amigo Bally\, canción escocesa \nLorenzo Cuevas García\nFiebre rítmica\nVaquero vago\, K. y D. Blackwell \nSara Herrera Suero\nViajando lento\nLa canción de Clara\, K. y D. Blackwell \nPablo Morales Muñoz\n¡Allá vamos!\, K. y D. Blackwell\nLos tres amigos\, canción finlandesa \nCarmen Núñez Peregrín\, viola\nTiptoe\, boo!\, K. y D. Blackwell\nA París\, canción francesa \nOlga Bonachera Martín\nPhoebe y su enagua\nCampanas distantes\, K. y D. Blackwell \nPablo Benítez Benítez\nEl pájaro burlón\, canción americana\nMaría tuvo un bebé\, canción tradicional americana \nAlejandra Gallego Mula\nLas luces de la ciudad\nJardín chino\, K. y D. Blackwell \nEva Rodríguez Muñoz\nEn el ritmo\, K. y D. Blackwell \nMaría Victoria Vargas Fernández\n¡Así es como va!\, K. y D. Blackwell\nLe deseamos una feliz Navidad\, canción tradicional inglesa \nJulia María Rus Delgado\nLa primera Navidad\, canción tradicional inglesa \nIrene Cordero Rosado\nLarga despedida\, canción tradicional escocesa \nJulia María Rus Delgado\nIrene Cordero Rosado\nEl vals de los patinadores\, E. Waldteufel \nJulia María Rus Delgado\nIrene Cordero Rosado\nEva Rodríguez Muñoz\nMaría Victoria Vargas Fernández\nLejos de un pesebre\, W. J. Kirkpatrick \nIsabel Herrera Flores\nCapricho nº 2\, P. Rode\nVenid todos los fieles\, J. F. Wade
URL:https://www.triarte.net/evento/1730h-concierto-de-violin-y-viola-alumnos-de-fatima-fernandez/
CATEGORIES:Concierto
ATTACH;FMTTYPE=image/png:https://www.triarte.net/wp-content/uploads/2017/11/11-12-2017-CONCIERTO-DE-VIOLIN-FATIMA-1.png
END:VEVENT
END:VCALENDAR