BEGIN:VCALENDAR
VERSION:2.0
PRODID:-//Triarte - Centro de estudios art&iacute;sticos - Conservatorio y escuela de m&uacute;sica, danza y teatro. - ECPv6.15.18//NONSGML v1.0//EN
CALSCALE:GREGORIAN
METHOD:PUBLISH
X-WR-CALNAME:Triarte - Centro de estudios art&iacute;sticos - Conservatorio y escuela de m&uacute;sica, danza y teatro.
X-ORIGINAL-URL:https://www.triarte.net
X-WR-CALDESC:Eventos para Triarte - Centro de estudios art&iacute;sticos - Conservatorio y escuela de m&uacute;sica, danza y teatro.
REFRESH-INTERVAL;VALUE=DURATION:PT1H
X-Robots-Tag:noindex
X-PUBLISHED-TTL:PT1H
BEGIN:VTIMEZONE
TZID:Europe/Madrid
BEGIN:DAYLIGHT
TZOFFSETFROM:+0100
TZOFFSETTO:+0200
TZNAME:CEST
DTSTART:20230326T010000
END:DAYLIGHT
BEGIN:STANDARD
TZOFFSETFROM:+0200
TZOFFSETTO:+0100
TZNAME:CET
DTSTART:20231029T010000
END:STANDARD
BEGIN:DAYLIGHT
TZOFFSETFROM:+0100
TZOFFSETTO:+0200
TZNAME:CEST
DTSTART:20240331T010000
END:DAYLIGHT
BEGIN:STANDARD
TZOFFSETFROM:+0200
TZOFFSETTO:+0100
TZNAME:CET
DTSTART:20241027T010000
END:STANDARD
BEGIN:DAYLIGHT
TZOFFSETFROM:+0100
TZOFFSETTO:+0200
TZNAME:CEST
DTSTART:20250330T010000
END:DAYLIGHT
BEGIN:STANDARD
TZOFFSETFROM:+0200
TZOFFSETTO:+0100
TZNAME:CET
DTSTART:20251026T010000
END:STANDARD
END:VTIMEZONE
BEGIN:VEVENT
DTSTART;TZID=Europe/Madrid:20240618T173000
DTEND;TZID=Europe/Madrid:20240618T193000
DTSTAMP:20260423T130640
CREATED:20240614T104300Z
LAST-MODIFIED:20240618T081343Z
UID:10115-1718731800-1718739000@www.triarte.net
SUMMARY:17:30 h | Concierto Piano. Alumnos de Siliana Zdravkova y Maribel Sánchez de Alcázar
DESCRIPTION:Dentro de las actividades programadas por TRIARTE para el Final de Curso 23/24\, está la de realizar conciertos para mejorar la formación de nuestros alumnos. \n? El martes 18 de junio a las 17:30 h los alumnos de Piano  de nuestra profesora y Siliana Zdravkova y Maribel Sánchez de Alcázar nos ofrecerán un concierto. \n? La entrada será libre hasta completar el aforo de nuestra sala de conciertos. \nPrograma\nJulia Naranjo Guerrero\nEl patio de mi casa\, popular\nLía Fernández Maldonado\nEstrellita\, popular\nMarina Palma Conde\nEstudio «Quién es más listo»\, popular\nDe viaje\, ERP\nJimena Jiménez González\nKazachok\nEstudio en Do Mayor\, ERP\nBaltasar Mingorance Rodríguez\nBandas y estrellas\, J. Ph. Sousa\nTormenta nocturna\, J. S. Bastien\nFrancisco Villalón Campos\nEstudio\, E. Gnesina\nCanción de cuna\, I. Philippe\nSelina Melwani Nanwani\nCanción ucraniana\nBajo un manzano verde\, ERP\nEstudio\, G. Humbert\nAna Ruiz González\nDos Estudios en Do Mayor\, E. Gnesina\nLidia Cádiz Zaragoza\nEstudio en Do Mayor\, E. Gnesina\nInmaculada Trigo Sánchez\nMuy hearth will go on «BSO Titanic»\, J. Horner\nLuca Jesús Morales Trigo\nEstudio en Do Mayor\, A. Goedike\nMarco Antonio Morales Trigo\nEstudio en Do Mayor\, F. Le Couppey\nInocencia\, J. F. F. Burgmüller\nNoa López Soriano\nAdiós\, J. F. F. Burgmüller\nJulia Fernández Pérez\nPara Elisa\, L. van Beethoven\nJosé Antonio Delgado Olmo\nVals Op. 69 nº 2\, F Chopin\nRocío Alba Gil\nSonata nº 10\, J. Haydn\nI.Allegro\nEmma García Rincón\nSonatina Op. 79\, L. van Beethoven\nI.Allegro\nFernando Fernández Escalera\nEstudio nº 2 Op. 740\, C. Zerny\nNoelia Gómez Marín\nComptine d’un autre été BSO «Amelie»\, Y.\nTiersen\nIrene Ambrosio Luque\nZambra\, J. Turina\nIsabel María Ambrosio Luque\nSonata Op. 31 nº 2\, L. van Beethoven\nI.Allegro\nÁngel Pavón Muñoz\nTema de Lara BSO «Doctor Zhivago»\, M. Jarre
URL:https://www.triarte.net/evento/1730-h-concierto-piano-alumnos-de-siliana-zdravkova-y-maribel-sanchez-de-alcazar/
LOCATION:Sala de Conciertos de Triarte\, Calle Corregidor Antonio de Bobadilla\, 16\, Málaga\, 29006\, España
CATEGORIES:Concierto
ATTACH;FMTTYPE=image/jpeg:https://www.triarte.net/wp-content/uploads/2024/06/web-18-06-CONCIERTO-DE-PIANO-SILIANA-17_30.jpg
END:VEVENT
END:VCALENDAR