BEGIN:VCALENDAR
VERSION:2.0
PRODID:-//Triarte - Centro de estudios art&iacute;sticos - Conservatorio y escuela de m&uacute;sica, danza y teatro. - ECPv6.15.18//NONSGML v1.0//EN
CALSCALE:GREGORIAN
METHOD:PUBLISH
X-WR-CALNAME:Triarte - Centro de estudios art&iacute;sticos - Conservatorio y escuela de m&uacute;sica, danza y teatro.
X-ORIGINAL-URL:https://www.triarte.net
X-WR-CALDESC:Eventos para Triarte - Centro de estudios art&iacute;sticos - Conservatorio y escuela de m&uacute;sica, danza y teatro.
REFRESH-INTERVAL;VALUE=DURATION:PT1H
X-Robots-Tag:noindex
X-PUBLISHED-TTL:PT1H
BEGIN:VTIMEZONE
TZID:Europe/Madrid
BEGIN:DAYLIGHT
TZOFFSETFROM:+0100
TZOFFSETTO:+0200
TZNAME:CEST
DTSTART:20180325T010000
END:DAYLIGHT
BEGIN:STANDARD
TZOFFSETFROM:+0200
TZOFFSETTO:+0100
TZNAME:CET
DTSTART:20181028T010000
END:STANDARD
BEGIN:DAYLIGHT
TZOFFSETFROM:+0100
TZOFFSETTO:+0200
TZNAME:CEST
DTSTART:20190331T010000
END:DAYLIGHT
BEGIN:STANDARD
TZOFFSETFROM:+0200
TZOFFSETTO:+0100
TZNAME:CET
DTSTART:20191027T010000
END:STANDARD
BEGIN:DAYLIGHT
TZOFFSETFROM:+0100
TZOFFSETTO:+0200
TZNAME:CEST
DTSTART:20200329T010000
END:DAYLIGHT
BEGIN:STANDARD
TZOFFSETFROM:+0200
TZOFFSETTO:+0100
TZNAME:CET
DTSTART:20201025T010000
END:STANDARD
END:VTIMEZONE
BEGIN:VEVENT
DTSTART;TZID=Europe/Madrid:20190401T173000
DTEND;TZID=Europe/Madrid:20190401T190000
DTSTAMP:20260422T170917
CREATED:20190326T202841Z
LAST-MODIFIED:20190327T161600Z
UID:5617-1554139800-1554145200@www.triarte.net
SUMMARY:17:30 h: Concierto de Viento. Saxofón\, Clarinete y Flauta.
DESCRIPTION:Dentro de las actividades programadas por TRIARTE\, está el realizar conciertos con los alumnos y alumnas al final de cada trimestre. \nEl lunes de 1 de abril a las 17:30 h los alumnos de Viento de nuestros profesores C. Beatriz Puche\, Adrián Martín y Juan David Guerrero nos ofrecerán un concierto. La entrada será libre hasta completar el aforo de nuestra sala de conciertos. \nPROGRAMA\nCarmen Ruiz Verdugo · Flauta · \nSupercalifragilisticospiealidoso\n“BSO Mary Poppins” \nBerta Lisciotto Vallejo · Flauta · \nColores en el viento\, Pocahontas \nPaula Gómez Castro · Clarinete · \nEl libro de la selva\, Terry Gilkyson \nIsmael Clavero Aponte · Flauta · \nIt a small world\, Walt Disney \nRodrigo Caracuel Molinillo · Clarinete · \nStairway to heaven\, Led Zeppelin \nMiguel Jurado Rubio · Clarinete · \nZarabanda\, Haendel\nShepherd’s Hey\, Trad. Inglesa \nFrancisco Leiva Pareja · Clarinete · \nHimno de la alegria\, L. van Beethoven \nPaula Vázquez García · Flauta · \nGavotte\, M. Blavet \nEstrella Thao Molina Samper · Flauta · \nAllegro\, B. Marcello \nRodrigo Fernández Serrano · Flauta · \nVariaciones sobre un tema de Mozart\, R. Hahn \nLucía Maldonado Montiel · Flauta ·\nRondó en Re Mayor\, W. A. Mozart \nPablo Lara Mendoza · Flauta ·\nMarcha de un Czar\, L. Hervelois \nSergio Mañas Dueñas · Flauta ·\nLe petit negre\, C. Debussy \nMiguel Ángel Porras Muñoz · Clarinete ·\nAdagio\, Carl Baermann\nSonata nº 1\, J. X. Lefèvre\nMov I: Allegro \nJuan Bosco Delgado Fernández · Flauta ·\nSonata en Sol Mayor\, A. Vivaldi\nMov I: Andante\nMov II: Allegro \nElba María Varela Miguel · Saxofón ·\nAria\, E. Bozza \nPetite Valse\, L. van Beethoven \nMario Fernández Gil · Flauta ·\nEstudio nº 10\, G. Gariboldi\nSonata II en Sol Mayor\, W. A. Mozart\nMov II: allegro\nMov III: menuetto \nJuan Bosco Rodríguez Alés · Clarinete ·\nVortragsstück Op. 63 nº 15\, C. Baermann\nFantasy\, Carl Nielsen \nMiguel Reguera Domínguez · Flauta ·\nConcierto en Do Mayor\, A. E. M. Grétry\nMov I: Allegro \nFrancisco Javier Martín Durán · Clarinete ·\nRomanza Op. 94\, R. Schumann \nIrene Pardo Molina · Flauta ·\nMinuetto con variaciones\, J. Wanhal  \nIrene Cordero Rosado · Flauta ·\nSonata nº 5 en Do Mayor\, W. A. Mozart\nMov I: allegro\nAllegro\, A. Vivaldi \nDarío Carrasco Jiménez · Clarinete ·\nTarantella\, J. F. F. Burgmüller\nPagina d’álbum\, M. Mangani
URL:https://www.triarte.net/evento/1730-h-concierto-de-viento-saxofon-clarinete-y-flauta/
LOCATION:Sala de Conciertos de Triarte\, Calle Corregidor Antonio de Bobadilla\, 16\, Málaga\, 29006\, España
CATEGORIES:Concierto
ATTACH;FMTTYPE=image/jpeg:https://www.triarte.net/wp-content/uploads/2019/03/01-04-2019-Concierto-de-Viento.jpg
END:VEVENT
END:VCALENDAR