BEGIN:VCALENDAR
VERSION:2.0
PRODID:-//Triarte - Centro de estudios art&iacute;sticos - Conservatorio y escuela de m&uacute;sica, danza y teatro. - ECPv6.15.18//NONSGML v1.0//EN
CALSCALE:GREGORIAN
METHOD:PUBLISH
X-WR-CALNAME:Triarte - Centro de estudios art&iacute;sticos - Conservatorio y escuela de m&uacute;sica, danza y teatro.
X-ORIGINAL-URL:https://www.triarte.net
X-WR-CALDESC:Eventos para Triarte - Centro de estudios art&iacute;sticos - Conservatorio y escuela de m&uacute;sica, danza y teatro.
REFRESH-INTERVAL;VALUE=DURATION:PT1H
X-Robots-Tag:noindex
X-PUBLISHED-TTL:PT1H
BEGIN:VTIMEZONE
TZID:Europe/Madrid
BEGIN:DAYLIGHT
TZOFFSETFROM:+0100
TZOFFSETTO:+0200
TZNAME:CEST
DTSTART:20170326T010000
END:DAYLIGHT
BEGIN:STANDARD
TZOFFSETFROM:+0200
TZOFFSETTO:+0100
TZNAME:CET
DTSTART:20171029T010000
END:STANDARD
BEGIN:DAYLIGHT
TZOFFSETFROM:+0100
TZOFFSETTO:+0200
TZNAME:CEST
DTSTART:20180325T010000
END:DAYLIGHT
BEGIN:STANDARD
TZOFFSETFROM:+0200
TZOFFSETTO:+0100
TZNAME:CET
DTSTART:20181028T010000
END:STANDARD
BEGIN:DAYLIGHT
TZOFFSETFROM:+0100
TZOFFSETTO:+0200
TZNAME:CEST
DTSTART:20190331T010000
END:DAYLIGHT
BEGIN:STANDARD
TZOFFSETFROM:+0200
TZOFFSETTO:+0100
TZNAME:CET
DTSTART:20191027T010000
END:STANDARD
END:VTIMEZONE
BEGIN:VEVENT
DTSTART;TZID=Europe/Madrid:20180622T173000
DTEND;TZID=Europe/Madrid:20180622T181500
DTSTAMP:20260421T141813
CREATED:20180607T152201Z
LAST-MODIFIED:20180615T192242Z
UID:4671-1529688600-1529691300@www.triarte.net
SUMMARY:17:30 h. Concierto de Iniciación a la Música. Alumnos de Fátima Fernández.
DESCRIPTION:Los alumnos de Iniciación a la Música con edades comprendidas de los 4 a los 5 años celebrarán el Final de Curso 17/18 ofreciéndonos un concierto. \nPor ello los alumnos de nuestras profesora Fátima Fernández actuarán ofreciéndonos el siguiente programa: \nPROGRAMA\nTaller Musical Preescolar\nÁngel Aranda Durán\nRubén Cantarero Domínguez\nRafael Conejo Barros\nAaron Del Rincón Benzaquen\nElena González Aranda\nVíctor Gutiérrez García\nPablo Hernanz Sepúlveda\nFrancisco Leiva Pareja\nElena Pérez López\nCarolina Sánchez Keim\nEstrella Serrano Baeza\nInmaculada Serrano Baeza \nDanza\nLa raspa mexicana \nJuego Rítmico\nLas estatuas \nCanciones\nTeresa tenía un caracol\nA mi burro\nDesayuno\nEl Lobito Lolo
URL:https://www.triarte.net/evento/1730-h-concierto-de-iniciacion-a-la-musica-alumnos-de-fatima-fernandez-los-alumnos-de-iniciacion-a-la-musica-con-edades-comprendidas-de-los-4-a-los-5-anos-celebraran-el-final-de-curso-17-18/
LOCATION:Sala de Conciertos de Triarte\, Calle Corregidor Antonio de Bobadilla\, 16\, Málaga\, 29006\, España
CATEGORIES:Concierto
ATTACH;FMTTYPE=image/png:https://www.triarte.net/wp-content/uploads/2018/06/iniciacion-fatima.png
END:VEVENT
END:VCALENDAR