BEGIN:VCALENDAR
VERSION:2.0
PRODID:-//Triarte - Centro de estudios art&iacute;sticos - Conservatorio y escuela de m&uacute;sica, danza y teatro. - ECPv6.15.18//NONSGML v1.0//EN
CALSCALE:GREGORIAN
METHOD:PUBLISH
X-WR-CALNAME:Triarte - Centro de estudios art&iacute;sticos - Conservatorio y escuela de m&uacute;sica, danza y teatro.
X-ORIGINAL-URL:https://www.triarte.net
X-WR-CALDESC:Eventos para Triarte - Centro de estudios art&iacute;sticos - Conservatorio y escuela de m&uacute;sica, danza y teatro.
REFRESH-INTERVAL;VALUE=DURATION:PT1H
X-Robots-Tag:noindex
X-PUBLISHED-TTL:PT1H
BEGIN:VTIMEZONE
TZID:Europe/Madrid
BEGIN:DAYLIGHT
TZOFFSETFROM:+0100
TZOFFSETTO:+0200
TZNAME:CEST
DTSTART:20230326T010000
END:DAYLIGHT
BEGIN:STANDARD
TZOFFSETFROM:+0200
TZOFFSETTO:+0100
TZNAME:CET
DTSTART:20231029T010000
END:STANDARD
BEGIN:DAYLIGHT
TZOFFSETFROM:+0100
TZOFFSETTO:+0200
TZNAME:CEST
DTSTART:20240331T010000
END:DAYLIGHT
BEGIN:STANDARD
TZOFFSETFROM:+0200
TZOFFSETTO:+0100
TZNAME:CET
DTSTART:20241027T010000
END:STANDARD
BEGIN:DAYLIGHT
TZOFFSETFROM:+0100
TZOFFSETTO:+0200
TZNAME:CEST
DTSTART:20250330T010000
END:DAYLIGHT
BEGIN:STANDARD
TZOFFSETFROM:+0200
TZOFFSETTO:+0100
TZNAME:CET
DTSTART:20251026T010000
END:STANDARD
END:VTIMEZONE
BEGIN:VEVENT
DTSTART;TZID=Europe/Madrid:20240620T173000
DTEND;TZID=Europe/Madrid:20240620T193000
DTSTAMP:20260423T145032
CREATED:20240618T161739Z
LAST-MODIFIED:20240619T165213Z
UID:10172-1718904600-1718911800@www.triarte.net
SUMMARY:17:30 h | Concierto Cuerda y Viento
DESCRIPTION:Dentro de las actividades programadas por TRIARTE para el Final de Curso 23/24\, está la de realizar conciertos para mejorar la formación de nuestros alumnos. \n? El jueves 20 de junio a las 17:30 h los alumnos de Cuerda y Viento de nuestros profesores nos ofrecerán un concierto. \n? La entrada será libre hasta completar el aforo de nuestra sala de conciertos. \nPrograma\nPaola Cano Baquero | violín\nIn flight\, K&D Blackwell \nPablo Jiménez López | violonchelo\nRunaway Train\, K&D Blackwell\nPiano acompañante Siliana Zdravkova \nVera Palenque Roa | flauta\nLa apisonadora\, canción infantil \nCarlos Jiménez Sánchez | saxofón\nHot Cross Buns\, canción tradicional\nMerrily\, canción tradicional \nGuillermo Pardo Elvira | violonchelo\nSong of the Wind\, Folk Song \nEdgar Zhan | violín\nIn the groove\, K&D Blackwell \nHugo Chaneta Chinchilla | violín\nGavotte I en Re M\, J. S. Bach \nMirto Jiménez Rodríguez | violonchelo\nLong\, Long Ago – T. H. Bayly\nPiano acompañante Siliana Zdravkova \nRodrigo Núñez Peregrín | viola\nEl Fuji-yama\, Joan Alfaras \nMoisés García Rivero | violonchelo\nMarcha en Sol M\, J. S. Bach\nViolonchelo acompañante Ana Molina
URL:https://www.triarte.net/evento/1730-h-concierto-cuerda-y-viento/
LOCATION:Sala de Conciertos de Triarte\, Calle Corregidor Antonio de Bobadilla\, 16\, Málaga\, 29006\, España
CATEGORIES:Concierto
ATTACH;FMTTYPE=image/jpeg:https://www.triarte.net/wp-content/uploads/2024/06/web-20-06-CONCIERTO-DE-CUERDA-y-VIENTO.jpg
END:VEVENT
END:VCALENDAR