BEGIN:VCALENDAR
VERSION:2.0
PRODID:-//Triarte - Centro de estudios art&iacute;sticos - Conservatorio y escuela de m&uacute;sica, danza y teatro. - ECPv6.15.18//NONSGML v1.0//EN
CALSCALE:GREGORIAN
METHOD:PUBLISH
X-WR-CALNAME:Triarte - Centro de estudios art&iacute;sticos - Conservatorio y escuela de m&uacute;sica, danza y teatro.
X-ORIGINAL-URL:https://www.triarte.net
X-WR-CALDESC:Eventos para Triarte - Centro de estudios art&iacute;sticos - Conservatorio y escuela de m&uacute;sica, danza y teatro.
REFRESH-INTERVAL;VALUE=DURATION:PT1H
X-Robots-Tag:noindex
X-PUBLISHED-TTL:PT1H
BEGIN:VTIMEZONE
TZID:Europe/Madrid
BEGIN:DAYLIGHT
TZOFFSETFROM:+0100
TZOFFSETTO:+0200
TZNAME:CEST
DTSTART:20180325T010000
END:DAYLIGHT
BEGIN:STANDARD
TZOFFSETFROM:+0200
TZOFFSETTO:+0100
TZNAME:CET
DTSTART:20181028T010000
END:STANDARD
BEGIN:DAYLIGHT
TZOFFSETFROM:+0100
TZOFFSETTO:+0200
TZNAME:CEST
DTSTART:20190331T010000
END:DAYLIGHT
BEGIN:STANDARD
TZOFFSETFROM:+0200
TZOFFSETTO:+0100
TZNAME:CET
DTSTART:20191027T010000
END:STANDARD
BEGIN:DAYLIGHT
TZOFFSETFROM:+0100
TZOFFSETTO:+0200
TZNAME:CEST
DTSTART:20200329T010000
END:DAYLIGHT
BEGIN:STANDARD
TZOFFSETFROM:+0200
TZOFFSETTO:+0100
TZNAME:CET
DTSTART:20201025T010000
END:STANDARD
END:VTIMEZONE
BEGIN:VEVENT
DTSTART;TZID=Europe/Madrid:20190330T120000
DTEND;TZID=Europe/Madrid:20190330T130000
DTSTAMP:20260422T204059
CREATED:20190321T201834Z
LAST-MODIFIED:20190329T152218Z
UID:5597-1553947200-1553950800@www.triarte.net
SUMMARY:12:00 h. Conjunto de Guitarras Triarte. Convento Mercedarias\, Málaga.
DESCRIPTION:El sábado 30 de marzo de 2019 a las 12:00h\, los alumnos de guitarra de nuestro profesor Pedro Reina nos ofrecerá un concierto en el Museum Jorge Rando\, Málaga. \nLa entrada será libre hasta completar aforo. \nTambién podéis consultar el resto de la agenda la Fundación Jorge Rando en: https://www.museojorgerando.org/expresate.html \nPROGRAMA\nMiguel García García\nPreludio Lágrima\, F. Tárrega \nJulián Julio Mainer Lasheras\nVals\, S. Rak \nLawrence Mandow Andaluz\nNatalia\, G. Moustaki \nMaría López Ruíz \nPreludio BWV 1007\, J. S. Bach \nMaría Victoria Castillo Montesino\nAdagio Cantata BWV 156 (dúo)\, J. S. Bach \nJosé Antonio Segovia Vega \nPavana IV\, L. Milán \nOlga Vorobei\nPreludio no. 4\, H. Villalobos \nNicolás MIguel Ángel Falhun\nPreludio en Re menor para laúd BWV 999\, J. S. Bach \nRobert Stefan Pereanu Caraion\nAsturias\, I. Albéniz
URL:https://www.triarte.net/evento/1200-h-conjunto-de-guitarras-triarte-museum-jorge-rando-2/
LOCATION:Iglesia de las Mercedarias\, Dirección: Calle Cruz del Molinillo\, 12\, Málaga\, Málaga\, 29013\, Spain
CATEGORIES:Concierto
ATTACH;FMTTYPE=image/jpeg:https://www.triarte.net/wp-content/uploads/2019/03/Concierto-Rando.jpg
END:VEVENT
END:VCALENDAR